{"text_format":"1","workbook":"xlsx","n_sheets":4,"sheets":["CONTROLES","DEMANDA COTA-EXTRA","Consolidação","GERAL PDSE SR2"],"not_rendered":{"charts":0,"images":0,"macros":1,"external_links":0,"defined_names":6,"comments":0,"pivot_tables":0},"unopened":[],"bounds":{"document_bytes":16777216,"sheet_cells":100000,"rows_first":2000,"rows_last":500,"rows_between":2000,"halvings":0,"cell_chars":16384,"cell_head_chars":4096},"cells_cut":0,"cells_raw":0,"read":"whole","date_system":"1900"}

{"sheet":"CONTROLES","index":0,"n_rows":1048574,"n_cols":12,"rows_kept":4500,"cut":true,"hidden":true,"merged":[[2,10,2,11]],"bounds":{"rows_first":2000,"rows_last":500,"rows_between":2000,"halvings":0}}
["COORDENAÇÃO DO PROJETO",null,"TEMA","TITULO PROJETO","PPG","NOTA"]
["ALICE RIBEIRO CASIMIRO LOPES",1,"TEMA 2 - Educação no Mundo Contemporâneo","Políticas de Currículo","PROPED (5)",7]
["ANA CHRYSTINA VENANCIO MIGNOT",2,"TEMA 2 - Educação no Mundo Contemporâneo","Escritas de Si, Memória e Profissão Docente","PROPED (5)",7,null,null,null,null,"CONTROLES"]
["ANNA PAULA UZIEL",3,"TEMA 6 - Políticas Públicas e Teoria Social","Articulações em ciências humanas e sociais: desafios contemporâneos dos direitos humanos na América Latina e Europa","PSICOLOGIA SOCIAL",5,null,null,null,null,6,40478.400000000001]
["ANTÔNIO JOSÉ DA SILVA NETO",4,"TEMA 5 - Ciências Exatas e Engenharias: Teoria, Experimentação, Modelagem Computacional e Aplicações","Modelagem Computacional para Aplicações em Engenharia e Meio Ambiente","MODELAGEM COMPUTACIONAL (3)",6,null,null,null,null,7,51256.800000000003]
["BRUNO REGO DEUSDARA RODRIGUES",5,"TEMA 1 - Cultura e Teoria Social: Focalizando Direito, Trabalho e Subjetividade","Linguagem, Migração e Trabalho","LETRAS (2)",5,null,null,null,null,8,56260.800000000003]
["BRUNO WERNECK MINTZ",6,"TEMA 5 - Ciências Exatas e Engenharias: Teoria, Experimentação, Modelagem Computacional e Aplicações","Interações Fortes: Fundamentos Teóricos e Aplicações","FÍSICA (4)",5,null,null,null,null,9,61264.800000000003]
["CLARA MARIA DE OLIVEIRA ARAÚJO",7,"TEMA 6 - Políticas Públicas e Teoria Social","Análise de Campanhas Públicas para Prevenir a Violência de Gênero no Brasil 2000-2017","CIÊNCIAS SOCIAIS (2)",5,null,null,null,null,10,66268.800000000003]
["DANIEL PEÇEGO",8,"TEMA 1 - Cultura e Teoria Social: Focalizando Direito, Trabalho e Subjetividade","História, Constituição e Crítica do Direito","DIREITO",5,null,null,null,null,11,71272.800000000003]
["DENIZE CRISTINA DE OLIVEIRA",9,"TEMA 3 - Saúde: Controle de Doenças e Ações pela Qualidade de Vida","Força de Trabalho e Práticas Assistenciais na Saúde e Enfermagem: AInternacionalização da Produção de Conhecimento na Atenção Básica a Saúde através de Parcerias Sustentáveis","ENFERMAGEM",5,null,null,null,null,12,76276.800000000003]
["EDGAR DA ROCHA MARQUES",10,"TEMA 1 - Cultura e Teoria Social: Focalizando Direito, Trabalho e Subjetividade","Subjetividade e Natureza","FILOSOFIA",5]
["ERICK FELINTO DE OLIVEIRA",11,"TEMA 1 - Cultura e Teoria Social: Focalizando Direito, Trabalho e Subjetividade","Tecnologias de Comunicação, Cidade e Cultura das Mídias","COMUNICAÇÃO SOCIAL",5]
["EUGENIA ZANDONÁ/ROSANA MAZONI",12,"TEMA 7 - Meio Ambiente: Formação, Análise de Impacto Ambiental e Novas Tecnologias em Busca da Sustentabilidade e Questões Sócio-Ambientais","Ecologia de Populações, Comunidades e Ecossistemas Aquáticos: Entendendo e Modelando Ambientes Tropicais","ECOLOGIA E EVOLUÇÃO",6,null,null,null,"Bolsas no Exterior","Doutorado Sanduíche "]
["FERNANDO DE CASTRO FONTAINHA ",13,"TEMA 1 - Cultura e Teoria Social: Focalizando Direito, Trabalho e Subjetividade","Direito e Ciências Sociais","SOCIOLOGIA (6)",6,null,null,null,"Bolsas no Exterior","Professor Visitante no Exterior Sênior "]
["FERNANDO HENRIQUE EDUARDO GUARNIERI",14,"TEMA 4 - Teoria política, história e redes de poder","Política Externa, Regionalismo e Cooperação Internacional","CIÊNCIA POLÍTICA",6,null,null,null,"Bolsas no Exterior","Professor Visitante no Exterior Júnior "]
["FLORIANO JOSE GODINHO DE OLIVEIRA",15,"TEMA 6 - Políticas Públicas e Teoria Social","Inovação e Redes Técnicas na Produção de Políticas Públicas em Ambiente Urbano","PPFH (3)",6,null,null,null,"Bolsas no Exterior","Capacitação "]
["JOAQUIM TEIXEIRA DE ASSIS",16,"TEMA 5 - Ciências Exatas e Engenharias: Teoria, Experimentação, Modelagem Computacional e Aplicações","Modelagem Computacional em Experimentos de Tomografia Computadorizada e Fluorescência de Raios X","MODELAGEM COMPUTACIONAL (3)",6,null,null,null,"Bolsas no País","Pós-doc com experiência no exterior "]
["LUIZ MARTINS MUNDIM FILHO",17,"TEMA 5 - Ciências Exatas e Engenharias: Teoria, Experimentação, Modelagem Computacional e Aplicações","Física de Altas Energias no Âmbito da Colaboração CMS (Compact Muon Solenoid) do Cern e as Tecnologias Associadas da Engenharia e Computação","FÍSICA (4)",5,null,null,null,"Bolsas no País","Professor Visitante no Brasil "]
["MAGALI DOS SANTOS MOURA",18,"TEMA 2 - Educação no Mundo Contemporâneo","Ensino e Aprendizagem de Línguas Estrangeiras Sob Perspectiva Intercultural","LETRAS (2)",5,null,null,null,"Bolsas no País","Jovem Talento com Experiência no Exterior "]
["MARCIA CRISTINA PAES",19,"TEMA 3 - Saúde: Controle de Doenças e Ações pela Qualidade de Vida","Novas Ferramentas para um Velho Inimigo: a Luta Contra a Doença de Chagas através da Regulação de Transcritos do RNA de Trypanosoma Cruzi","BIOCIÊNCIAS (2)",6]
["MARIA CLAUDIA PEREIRA COELHO",20,"TEMA 1 - Cultura e Teoria Social: Focalizando Direito, Trabalho e Subjetividade","Cultura, Subjetividade e Emoções","CIÊNCIAS SOCIAIS (2)",5]
["MARIA DA CONCEIÇÃO SILVA SOARES",21,"TEMA 2 - Educação no Mundo Contemporâneo","Cotidianos, Redes Educativas, Processos Culturais E Imagens","PROPED (5)",7]
["MARIO ROBERTO DAL POZ",22,"TEMA 3 - Saúde: Controle de Doenças e Ações pela Qualidade de Vida","Saúde Coletiva e Nutrição: Produção de Conhecimento para Impulsionar a Agenda 2030 – Objetivos do Desenvolvimento Sustentável","SAÚDE COLETIVA",6]
["PEDRO JORGE VON RANKE PERLINGEIRO/BRUNO PINHO ALHO",23,"TEMA 5 - Ciências Exatas e Engenharias: Teoria, Experimentação, Modelagem Computacional e Aplicações","Efeitos I-Calóricos","FÍSICA (4)",5]
["PRESCILLA EMY NAGAO FERREIRA",24,"TEMA 3 - Saúde: Controle de Doenças e Ações pela Qualidade de Vida","Mecanismos Moleculares Relacionados à Disfunção Endotelial na Sepse Neonatal","BIOCIÊNCIAS (2)",6]
["RICARDO CARVALHO DE BARROS",25,"TEMA 5 - Ciências Exatas e Engenharias: Teoria, Experimentação, Modelagem Computacional e Aplicações","Modelagem Computacional do Transporte Não-Clássico de Partículas Neutras","MODELAGEM COMPUTACIONAL (3)",6]
["ROSANA GLAT",26,"TEMA 2 - Educação no Mundo Contemporâneo","Inclusão, comunicação e aprendizagem","PROPED (5)",7]
["SANTIAGO ESTEBAN PEREZ BERGLIAFFA",27,"TEMA 5 - Ciências Exatas e Engenharias: Teoria, Experimentação, Modelagem Computacional e Aplicações","Desafios Contemporâneos em Gravitação e Cosmologia","FÍSICA (4)",5]
["SHEILA CABO GERALDO",28,"TEMA 1 - Cultura e Teoria Social: Focalizando Direito, Trabalho e Subjetividade","Geopoéticas e Novas Epistemes: Relações da Arte e da Cultura na Contemporaneidade","ARTES ",5]
["SILENE DE MORAES FREIRE",29,"TEMA 1 - Cultura e Teoria Social: Focalizando Direito, Trabalho e Subjetividade","Trabalho e Questão social","SERVIÇO SOCIAL",6]
["WALTER OMAR KOHAN",30,"TEMA 2 - Educação no Mundo Contemporâneo","Filosofia na Infância da Vida Escolar","PROPED (5)",7]
[]
[]
[]
[]
[]
[]
[]
[]
[]
[]
[]
[]
[]
[]
[]
[]
[]
[]
[]
[]
[]
[]
[]
[]
[]
[]
[]
[]
[]
[]
[]
[]
[]
[]
[]
[]
[]
[]
[]
[]
[]
[]
[]
[]
[]
[]
[]
[]
[]
[]
[]
[]
[]
[]
[]
[]
[]
[]
[]
[]
[]
[]
[]
[]
[]
[]
[]
[]
[]
[]
[]
[]
[]
[]
[]
[]
[]
[]
[]
[]
[]
[]
[]
[]
[]
[]
[]
[]
[]
[]
[]
[]
[]
[]
[]
[]
[]
[]
[]
[]
[]
[]
[]
[]
[]
[]
[]
[]
[]
[]
[]
[]
[]
[]
[]
[]
[]
[]
[]
[]
[]
[]
[]
[]
[]
[]
[]
[]
[]
[]
[]
[]
[]
[]
[]
[]
[]
[]
[]
[]
[]
[]
[]
[]
[]
[]
[]
[]
[]
[]
[]
[]
[]
[]
[]
[]
[]
[]
[]
[]
[]
[]
[]
[]
[]
[]
[]
[]
[]
[]
[]
[]
[]
[]
[]
[]
[]
[]
[]
[]
[]
[]
[]
[]
[]
[]
[]
[]
[]
[]
[]
[]
[]
[]
[]
[]
[]
[]
[]
[]
[]
[]
[]
[]
[]
[]
[]
[]
[]
[]
[]
[]
[]
[]
[]
[]
[]
[]
[]
[]
[]
[]
[]
[]
[]
[]
[]
[]
[]
[]
[]
[]
[]
[]
[]
[]
[]
[]
[]
[]
[]
[]
[]
[]
[]
[]
[]
[]
[]
[]
[]
[]
[]
[]
[]
[]
[]
[]
[]
[]
[]
[]
[]
[]
[]
[]
[]
[]
[]
[]
[]
[]
[]
[]
[]
[]
[]
[]
[]
[]
[]
[]
[]
[]
[]
[]
[]
[]
[]
[]
[]
[]
[]
[]
[]
[]
[]
[]
[]
[]
[]
[]
[]
[]
[]
[]
[]
[]
[]
[]
[]
[]
[]
[]
[]
[]
[]
[]
[]
[]
[]
[]
[]
[]
[]
[]
[]
[]
[]
[]
[]
[]
[]
[]
[]
[]
[]
[]
[]
[]
[]
[]
[]
[]
[]
[]
[]
[]
[]
[]
[]
[]
[]
[]
[]
[]
[]
[]
[]
[]
[]
[]
[]
[]
[]
[]
[]
[]
[]
[]
[]
[]
[]
[]
[]
[]
[]
[]
[]
[]
[]
[]
[]
[]
[]
[]
[]
[]
[]
[]
[]
[]
[]
[]
[]
[]
[]
[]
[]
[]
[]
[]
[]
[]
[]
[]
[]
[]
[]
[]
[]
[]
[]
[]
[]
[]
[]
[]
[]
[]
[]
[]
[]
[]
[]
[]
[]
[]
[]
[]
[]
[]
[]
[]
[]
[]
[]
[]
[]
[]
[]
[]
[]
[]
[]
[]
[]
[]
[]
[]
[]
[]
[]
[]
[]
[]
[]
[]
[]
[]
[]
[]
[]
[]
[]
[]
[]
[]
[]
[]
[]
[]
[]
[]
[]
[]
[]
[]
[]
[]
[]
[]
[]
[]
[]
[]
[]
[]
[]
[]
[]
[]
[]
[]
[]
[]
[]
[]
[]
[]
[]
[]
[]
[]
[]
[]
[]
[]
[]
[]
[]
[]
[]
[]
[]
[]
[]
[]
[]
[]
[]
[]
[]
[]
[]
[]
[]
[]
[]
[]
[]
[]
[]
[]
[]
[]
[]
[]
[]
[]
[]
[]
[]
[]
[]
[]
[]
[]
[]
[]
[]
[]
[]
[]
[]
[]
[]
[]
[]
[]
[]
[]
[]
[]
[]
[]
[]
[]
[]
[]
[]
[]
[]
[]
[]
[]
[]
[]
[]
[]
[]
[]
[]
[]
[]
[]
[]
[]
[]
[]
[]
[]
[]
[]
[]
[]
[]
[]
[]
[]
[]
[]
[]
[]
[]
[]
[]
[]
[]
[]
[]
[]
[]
[]
[]
[]
[]
[]
[]
[]
[]
[]
[]
[]
[]
[]
[]
[]
[]
[]
[]
[]
[]
[]
[]
[]
[]
[]
[]
[]
[]
[]
[]
[]
[]
[]
[]
[]
[]
[]
[]
[]
[]
[]
[]
[]
[]
[]
[]
[]
[]
[]
[]
[]
[]
[]
[]
[]
[]
[]
[]
[]
[]
[]
[]
[]
[]
[]
[]
[]
[]
[]
[]
[]
[]
[]
[]
[]
[]
[]
[]
[]
[]
[]
[]
[]
[]
[]
[]
[]
[]
[]
[]
[]
[]
[]
[]
[]
[]
[]
[]
[]
[]
[]
[]
[]
[]
[]
[]
[]
[]
[]
[]
[]
[]
[]
[]
[]
[]
[]
[]
[]
[]
[]
[]
[]
[]
[]
[]
[]
[]
[]
[]
[]
[]
[]
[]
[]
[]
[]
[]
[]
[]
[]
[]
[]
[]
[]
[]
[]
[]
[]
[]
[]
[]
[]
[]
[]
[]
[]
[]
[]
[]
[]
[]
[]
[]
[]
[]
[]
[]
[]
[]
[]
[]
[]
[]
[]
[]
[]
[]
[]
[]
[]
[]
[]
[]
[]
[]
[]
[]
[]
[]
[]
[]
[]
[]
[]
[]
[]
[]
[]
[]
[]
[]
[]
[]
[]
[]
[]
[]
[]
[]
[]
[]
[]
[]
[]
[]
[]
[]
[]
[]
[]
[]
[]
[]
[]
[]
[]
[]
[]
[]
[]
[]
[]
[]
[]
[]
[]
[]
[]
[]
[]
[]
[]
[]
[]
[]
[]
[]
[]
[]
[]
[]
[]
[]
[]
[]
[]
[]
[]
[]
[]
[]
[]
[]
[]
[]
[]
[]
[]
[]
[]
[]
[]
[]
[]
[]
[]
[]
[]
[]
[]
[]
[]
[]
[]
[]
[]
[]
[]
[]
[]
[]
[]
[]
[]
[]
[]
[]
[]
[]
[]
[]
[]
[]
[]
[]
[]
[]
[]
[]
[]
[]
[]
[]
[]
[]
[]
[]
[]
[]
[]
[]
[]
[]
[]
[]
[]
[]
[]
[]
[]
[]
[]
[]
[]
[]
[]
[]
[]
[]
[]
[]
[]
[]
[]
[]
[]
[]
[]
[]
[]
[]
[]
[]
[]
[]
[]
[]
[]
[]
[]
[]
[]
[]
[]
[]
[]
[]
[]
[]
[]
[]
[]
[]
[]
[]
[]
[]
[]
[]
[]
[]
[]
[]
[]
[]
[]
[]
[]
[]
[]
[]
[]
[]
[]
[]
[]
[]
[]
[]
[]
[]
[]
[]
[]
[]
[]
[]
[]
[]
[]
[]
[]
[]
[]
[]
[]
[]
[]
[]
[]
[]
[]
[]
[]
[]
[]
[]
[]
[]
[]
[]
[]
[]
[]
[]
[]
[]
[]
[]
[]
[]
[]
[]
[]
[]
[]
[]
[]
[]
[]
[]
[]
[]
[]
[]
[]
[]
[]
[]
[]
[]
[]
[]
[]
[]
[]
[]
[]
[]
[]
[]
[]
[]
[]
[]
[]
[]
[]
[]
[]
[]
[]
[]
[]
[]
[]
[]
[]
[]
[]
[]
[]
[]
[]
[]
[]
[]
[]
[]
[]
[]
[]
[]
[]
[]
[]
[]
[]
[]
[]
[]
[]
[]
[]
[]
[]
[]
[]
[]
[]
[]
[]
[]
[]
[]
[]
[]
[]
[]
[]
[]
[]
[]
[]
[]
[]
[]
[]
[]
[]
[]
[]
[]
[]
[]
[]
[]
[]
[]
[]
[]
[]
[]
[]
[]
[]
[]
[]
[]
[]
[]
[]
[]
[]
[]
[]
[]
[]
[]
[]
[]
[]
[]
[]
[]
[]
[]
[]
[]
[]
[]
[]
[]
[]
[]
[]
[]
[]
[]
[]
[]
[]
[]
[]
[]
[]
[]
[]
[]
[]
[]
[]
[]
[]
[]
[]
[]
[]
[]
[]
[]
[]
[]
[]
[]
[]
[]
[]
[]
[]
[]
[]
[]
[]
[]
[]
[]
[]
[]
[]
[]
[]
[]
[]
[]
[]
[]
[]
[]
[]
[]
[]
[]
[]
[]
[]
[]
[]
[]
[]
[]
[]
[]
[]
[]
[]
[]
[]
[]
[]
[]
[]
[]
[]
[]
[]
[]
[]
[]
[]
[]
[]
[]
[]
[]
[]
[]
[]
[]
[]
[]
[]
[]
[]
[]
[]
[]
[]
[]
[]
[]
[]
[]
[]
[]
[]
[]
[]
[]
[]
[]
[]
[]
[]
[]
[]
[]
[]
[]
[]
[]
[]
[]
[]
[]
[]
[]
[]
[]
[]
[]
[]
[]
[]
[]
[]
[]
[]
[]
[]
[]
[]
[]
[]
[]
[]
[]
[]
[]
[]
[]
[]
[]
[]
[]
[]
[]
[]
[]
[]
[]
[]
[]
[]
[]
[]
[]
[]
[]
[]
[]
[]
[]
[]
[]
[]
[]
[]
[]
[]
[]
[]
[]
[]
[]
[]
[]
[]
[]
[]
[]
[]
[]
[]
[]
[]
[]
[]
[]
[]
[]
[]
[]
[]
[]
[]
[]
[]
[]
[]
[]
[]
[]
[]
[]
[]
[]
[]
[]
[]
[]
[]
[]
[]
[]
[]
[]
[]
[]
[]
[]
[]
[]
[]
[]
[]
[]
[]
[]
[]
[]
[]
[]
[]
[]
[]
[]
[]
[]
[]
[]
[]
[]
[]
[]
[]
[]
[]
[]
[]
[]
[]
[]
[]
[]
[]
[]
[]
[]
[]
[]
[]
[]
[]
[]
[]
[]
[]
[]
[]
[]
[]
[]
[]
[]
[]
[]
[]
[]
[]
[]
[]
[]
[]
[]
[]
[]
[]
[]
[]
[]
[]
[]
[]
[]
[]
[]
[]
[]
[]
[]
[]
[]
[]
[]
[]
[]
[]
[]
[]
[]
[]
[]
[]
[]
[]
[]
[]
[]
[]
[]
[]
[]
[]
[]
[]
[]
[]
[]
[]
[]
[]
[]
[]
[]
[]
[]
[]
[]
[]
[]
[]
[]
[]
[]
[]
[]
[]
[]
[]
[]
[]
[]
[]
[]
[]
[]
[]
[]
[]
[]
[]
[]
[]
[]
[]
[]
[]
[]
[]
[]
[]
[]
[]
[]
[]
[]
[]
[]
[]
[]
[]
[]
[]
[]
[]
[]
[]
[]
[]
[]
[]
[]
[]
[]
[]
[]
[]
[]
[]
[]
[]
[]
[]
[]
[]
[]
[]
[]
[]
[]
[]
[]
[]
[]
[]
[]
[]
[]
[]
[]
[]
[]
[]
[]
[]
[]
[]
[]
[]
[]
[]
[]
[]
[]
[]
[]
[]
[]
[]
[]
[]
[]
[]
[]
[]
[]
[]
[]
[]
[]
[]
[]
[]
[]
[]
[]
[]
[]
[]
[]
[]
[]
[]
[]
[]
[]
[]
[]
[]
[]
[]
[]
[]
[]
[]
[]
[]
[]
[]
[]
[]
[]
[]
[]
[]
[]
[]
[]
[]
[]
[]
[]
[]
[]
[]
[]
[]
[]
[]
[]
[]
[]
[]
[]
[]
[]
[]
[]
[]
[]
[]
[]
[]
[]
[]
[]
[]
[]
[]
[]
[]
[]
[]
[]
[]
[]
[]
[]
[]
[]
[]
[]
[]
[]
[]
[]
[]
[]
[]
[]
[]
[]
[]
[]
[]
[]
[]
[]
[]
[]
[]
[]
[]
[]
[]
[]
[]
[]
[]
[]
[]
[]
[]
[]
[]
[]
[]
[]
[]
[]
[]
[]
[]
[]
[]
[]
[]
[]
[]
[]
[]
[]
[]
[]
[]
[]
[]
[]
[]
[]
[]
[]
[]
[]
[]
[]
[]
[]
[]
[]
[]
[]
[]
[]
[]
[]
[]
[]
[]
[]
[]
[]
[]
[]
[]
[]
[]
[]
[]
[]
[]
[]
[]
[]
[]
[]
[]
[]
[]
[]
[]
[]
[]
[]
[]
[]
[]
[]
[]
[]
[]
[]
[]
[]
[]
[]
[]
[]
[]
[]
[]
[]
[]
[]
[]
[]
[]
[]
[]
[]
[]
[]
[]
[]
[]
[]
[]
[]
[]
[]
[]
[]
[]
[]
[]
[]
[]
[]
[]
[]
[]
[]
[]
[]
[]
[]
[]
[]
[]
[]
[]
[]
[]
[]
[]
[]
[]
[]
[]
[]
[]
[]
[]
[]
[]
[]
[]
[]
[]
[]
[]
[]
[]
[]
[]
[]
[]
[]
[]
[]
[]
[]
[]
[]
[]
[]
[]
[]
[]
[]
[]
[]
[]
[]
[]
[]
[]
[]
[]
[]
[]
[]
[]
[]
[]
[]
[]
[]
[]
[]
[]
[]
[]
[]
[]
[]
[]
[]
[]
[]
[]
[]
[]
[]
[]
[]
[]
[]
[]
[]
[]
[]
[]
[]
[]
[]
[]
[]
[]
[]
[]
[]
[]
[]
[]
[]
[]
[]
[]
[]
[]
[]
[]
[]
[]
[]
[]
[]
[]
[]
[]
[]
[]
[]
[]
[]
[]
[]
[]
[]
[]
[]
[]
[]
[]
[]
[]
[]
[]
[]
[]
[]
[]
[]
[]
[]
[]
[]
[]
[]
[]
[]
[]
[]
[]
[]
[]
[]
[]
[]
[]
[]
[]
[]
[]
[]
[]
[]
[]
[]
[]
[]
[]
[]
[]
[]
[]
[]
[]
[]
[]
[]
[]
[]
[]
[]
[]
[]
[]
[]
[]
[]
[]
[]
[]
[]
[]
[]
[]
[]
[]
[]
[]
[]
[]
[]
[]
[]
[]
[]
[]
[]
[]
[]
[]
[]
[]
[]
[]
[]
[]
[]
[]
[]
[]
[]
[]
[]
[]
[]
[]
[]
[]
[]
[]
[]
[]
[]
[]
[]
[]
[]
[]
[]
[]
[]
[]
[]
[]
[]
[]
[]
[]
[]
[]
[]
[]
[]
[]
[]
[]
[]
[]
[]
[]
[]
[]
[]
[]
[]
[]
[]
[]
[]
[]
[]
[]
[]
[]
[]
[]
[]
[]
[]
[]
[]
[]
[]
[]
[]
[]
[]
[]
[]
[]
[]
[]
[]
[]
[]
[]
[]
[]
[]
[]
[]
[]
[]
[]
[]
[]
[]
[]
[]
[]
[]
[]
[]
[]
[]
[]
[]
[]
[]
[]
[]
[]
[]
[]
[]
[]
[]
[]
[]
[]
[]
[]
[]
[]
[]
[]
[]
[]
[]
[]
[]
[]
[]
[]
[]
[]
[]
[]
[]
[]
[]
[]
[]
[]
[]
[]
[]
[]
[]
[]
[]
[]
[]
[]
[]
[]
[]
[]
[]
[]
[]
[]
[]
[]
[]
[]
[]
[]
[]
[]
[]
[]
[]
[]
[]
[]
[]
[]
[]
[]
[]
[]
[]
[]
[]
[]
[]
[]
[]
[]
[]
[]
[]
[]
[]
[]
[]
[]
[]
[]
[]
[]
[]
[]
[]
[]
[]
[]
[]
[]
[]
[]
[]
[]
[]
[]
[]
[]
[]
[]
[]
[]
[]
[]
[]
[]
[]
[]
[]
[]
[]
[]
[]
[]
[]
[]
[]
[]
[]
[]
[]
[]
[]
[]
[]
[]
[]
[]
[]
[]
[]
[]
[]
[]
[]
[]
[]
[]
[]
[]
[]
[]
[]
[]
[]
[]
[]
[]
[]
[]
[]
[]
[]
[]
[]
[]
[]
[]
[]
[]
[]
[]
[]
[]
[]
[]
[]
[]
[]
[]
[]
[]
[]
[]
[]
[]
[]
[]
[]
[]
[]
[]
[]
[]
[]
[]
[]
[]
[]
[]
[]
[]
[]
[]
[]
[]
[]
[]
[]
[]
[]
[]
[]
[]
[]
[]
[]
[]
[]
[]
[]
[]
[]
[]
[]
[]
[]
[]
[]
[]
[]
[]
[]
[]
[]
[]
[]
[]
[]
[]
[]
[]
[]
[]
[]
[]
[]
[]
[]
[]
[]
[]
[]
[]
[]
[]
[]
[]
[]
[]
[]
[]
[]
[]
[]
[]
[]
[]
[]
[]
[]
[]
[]
[]
[]
[]
[]
[]
[]
[]
[]
[]
[]
[]
[]
[]
[]
[]
[]
[]
[]
[]
[]
[]
[]
[]
[]
[]
[]
[]
[]
[]
[]
[]
[]
[]
[]
[]
[]
[]
[]
[]
[]
[]
[]
[]
[]
[]
[]
[]
[]
[]
[]
[]
[]
[]
[]
[]
[]
[]
[]
[]
[]
[]
[]
[]
[]
[]
[]
[]
[]
[]
[]
[]
[]
[]
[]
[]
[]
[]
[]
[]
[]
[]
[]
[]
[]
[]
[]
[]
[]
[]
[]
[]
[]
[]
[]
[]
[]
[]
[]
[]
[]
[]
[]
[]
[]
[]
[]
[]
[]
[]
[]
[]
[]
[]
[]
[]
[]
[]
[]
[]
[]
[]
[]
[]
[]
[]
[]
[]
[]
[]
[]
[]
[]
[]
[]
[]
[]
[]
[]
[]
[]
[]
[]
[]
[]
[]
[]
[]
[]
[]
[]
[]
[]
[]
[]
[]
[]
[]
[]
[]
[]
[]
[]
[]
[]
[]
[]
[]
[]
[]
[]
[]
[]
[]
[]
[]
[]
[]
[]
[]
[]
[]
[]
[]
[]
[]
[]
[]
[]
[]
[]
[]
[]
[]
[]
[]
[]
[]
[]
[]
[]
[]
[]
[]
[]
[]
[]
[]
[]
[]
[]
[]
[]
[]
[]
[]
[]
[]
[]
[]
[]
[]
[]
[]
[]
[]
[]
[]
[]
[]
[]
[]
[]
[]
[]
[]
[]
[]
[]
[]
[]
[]
[]
[]
[]
[]
[]
[]
[]
[]
[]
[]
[]
[]
[]
[]
[]
[]
[]
[]
[]
[]
[]
[]
[]
[]
[]
[]
[]
[]
[]
[]
[]
[]
[]
[]
[]
[]
[]
[]
[]
[]
[]
[]
[]
[]
[]
[]
[]
[]
[]
[]
[]
[]
[]
[]
[]
[]
[]
[]
[]
[]
[]
[]
[]
[]
[]
[]
[]
[]
[]
[]
[]
[]
[]
[]
[]
[]
[]
[]
[]
[]
[]
[]
[]
[]
[]
[]
[]
[]
[]
[]
[]
[]
[]
[]
[]
[]
[]
[]
[]
[]
[]
[]
[]
[]
[]
[]
[]
[]
[]
[]
[]
[]
[]
[]
[]
[]
[]
[]
[]
[]
[]
[]
[]
[]
[]
[]
[]
[]
[]
[]
[]
[]
[]
[]
[]
[]
[]
[]
[]
[]
[]
[]
[]
[]
[]
[]
[]
[]
[]
[]
[]
[]
[]
[]
[]
[]
[]
[]
[]
[]
[]
[]
[]
[]
[]
[]
[]
[]
[]
[]
[]
[]
[]
[]
[]
[]
[]
[]
[]
[]
[]
[]
[]
[]
[]
[]
[]
[]
[]
[]
[]
[]
[]
[]
[]
[]
[]
[]
[]
[]
[]
[]
[]
[]
[]
[]
[]
[]
[]
[]
[]
[]
[]
[]
[]
[]
[]
[]
[]
[]
[]
[]
[]
[]
[]
[]
[]
[]
[]
[]
[]
[]
[]
[]
[]
[]
[]
[]
[]
[]
[]
[]
[]
[]
[]
[]
[]
[]
[]
[]
[]
[]
[]
[]
[]
[]
[]
[]
[]
[]
[]
[]
[]
[]
[]
[]
[]
[]
[]
[]
[]
[]
[]
[]
[]
[]
[]
[]
[]
[]
[]
[]
[]
[]
[]
[]
[]
[]
[]
[]
[]
[]
[]
[]
[]
[]
[]
[]
[]
[]
[]
[]
[]
[]
[]
[]
[]
[]
[]
[]
[]
[]
[]
[]
[]
[]
[]
[]
[]
[]
[]
[]
[]
[]
[]
[]
[]
[]
[]
[]
[]
[]
[]
[]
[]
[]
[]
[]
[]
[]
[]
[]
[]
[]
[]
[]
[]
[]
[]
[]
[]
[]
[]
[]
[]
[]
[]
[]
[]
[]
[]
[]
[]
[]
[]
[]
[]
[]
[]
[]
[]
[]
[]
[]
[]
[]
[]
[]
[]
[]
[]
[]
[]
[]
[]
[]
[]
[]
[]
[]
[]
[]
[]
[]
[]
[]
[]
[]
[]
[]
[]
[]
[]
[]
[]
[]
[]
[]
[]
[]
[]
[]
[]
[]
[]
[]
[]
[]
[]
[]
[]
[]
[]
[]
[]
[]
[]
[]
[]
[]
[]
[]
[]
[]
[]
[]
[]
[]
[]
[]
[]
[]
[]
[]
[]
[]
[]
[]
[]
[]
[]
[]
[]
[]
[]
[]
[]
[]
[]
[]
[]
[]
[]
[]
[]
[]
[]
[]
[]
[]
[]
[]
[]
[]
[]
[]
[]
[]
[]
[]
[]
[]
[]
[]
[]
[]
[]
[]
[]
[]
[]
[]
[]
[]
[]
[]
[]
[]
[]
[]
[]
[]
[]
[]
[]
[]
[]
[]
[]
[]
[]
[]
[]
[]
[]
[]
[]
[]
[]
[]
[]
[]
[]
[]
[]
[]
[]
[]
[]
[]
[]
[]
[]
[]
[]
[]
[]
[]
[]
[]
[]
[]
[]
[]
[]
[]
[]
[]
[]
[]
[]
[]
[]
[]
[]
[]
[]
[]
[]
[]
[]
[]
[]
[]
[]
[]
[]
[]
[]
[]
[]
[]
[]
[]
[]
[]
[]
[]
[]
[]
[]
[]
[]
[]
[]
[]
[]
[]
[]
[]
[]
[]
[]
[]
[]
[]
[]
[]
[]
[]
[]
[]
[]
[]
[]
[]
[]
[]
[]
[]
[]
[]
[]
[]
[]
[]
[]
[]
[]
[]
[]
[]
[]
[]
[]
[]
[]
[]
[]
[]
[]
[]
[]
[]
[]
[]
[]
[]
[]
[]
[]
[]
[]
[]
[]
[]
[]
[]
[]
[]
[]
[]
[]
[]
[]
[]
[]
[]
[]
[]
[]
[]
[]
[]
[]
[]
[]
[]
[]
[]
[]
[]
[]
[]
[]
[]
[]
[]
[]
[]
[]
[]
[]
[]
[]
[]
[]
[]
[]
[]
[]
[]
[]
[]
[]
[]
[]
[]
[]
[]
[]
[]
[]
[]
[]
[]
[]
[]
[]
[]
[]
[]
[]
[]
[]
[]
[]
[]
[]
[]
[]
[]
[]
[]
[]
[]
[]
[]
[]
[]
[]
[]
[]
[]
[]
[]
[]
[]
[]
[]
[]
[]
[]
[]
[]
[]
[]
[]
[]
[]
[]
[]
[]
[]
[]
[]
[]
[]
[]
[]
[]
[]
[]
[]
[]
[]
[]
[]
[]
[]
[]
[]
[]
[]
[]
[]
[]
[]
[]
[]
[]
[]
[]
[]
[]
[]
[]
[]
[]
[]
[]
[]
[]
[]
[]
[]
[]
[]
[]
[]
[]
[]
[]
[]
[]
[]
[]
[]
[]
[]
[]
[]
[]
[]
[]
[]
[]
[]
[]
[]
[]
[]
[]
[]
[]
[]
[]
[]
[]
[]
[]
[]
[]
[]
[]
[]
[]
[]
[]
[]
[]
[]
[]
[]
[]
[]
[]
[]
[]
[]
[]
[]
[]
[]
[]
[]
[]
[]
[]
[]
[]
[]
[]
[]
[]
[]
[]
[]
[]
[]
[]
[]
[]
[]
[]
[]
[]
[]
[]
[]
[]
[]
[]
[]
[]
[]
[]
[]
[]
[]
[]
[]
[]
[]
[]
[]
[]
[]
[]
[]
[]
[]
[]
[]
[]
[]
[]
[]
[]
[]
[]
[]
[]
[]
[]
[]
[]
[]
[]
[]
[]
[]
[]
[]
[]
[]
[]
[]
[]
[]
[]
[]
[]
[]
[]
[]
[]
[]
[]
[]
[]
[]
[]
[]
[]
[]
[]
[]
[]
[]
[]
[]
[]
[]
[]
[]
[]
[]
[]
[]
[]
[]
[]
[]
[]
[]
[]
[]
[]
[]
[]
[]
[]
[]
[]
[]
[]
[]
[]
[]
[]
[]
[]
[]
[]
[]
[]
[]
[]
[]
[]
[]
[]
[]
[]
[]
[]
[]
[]
[]
[]
[]
[]
[]
[]
[]
[]
[]
[]
[]
[]
[]
[]
[]
[]
[]
[]
[]
[]
[]
[]
[]
[]
[]
[]
[]
[]
[]
[]
[]
[]
[]
[]
[]
[]
[]
[]
[]
[]
[]
[]
[]
[]
[]
[]
[]
[]
[]
[]
[]
[]
[]
[]
[]
[]
[]
[]
[]
[]
[]
[]
[]
[]
[]
[]
[]
[]
[]
[]
[]
[]
[]
[]
[]
[]
[]
[]
[]
[]
[]
[]
[]
[]
[]
[]
[]
[]
[]
[]
[]
[]
[]
[]
[]
[]
[]
[]
[]
[]
[]
[]
[]
[]
[]
[]
[]
[]
[]
[]
[]
[]
[]
[]
[]
[]
[]
[]
[]
[]
[]
[]
[]
[]
[]
[]
[]
[]
[]
[]
[]
[]
[]
[]
[]
[]
[]
[]
[]
[]
[]
[]
[]
[]
[]
[]
[]
[]
[]
[]
[]
[]
[]
[]
[]
[]
[]
[]
[]
[]
[]
[]
[]
[]
[]
[]
[]
[]
[]
[]
[]
[]
[]
[]
[]
[]
[]
[]
[]
[]
[]
[]
[]
[]
[]
[]
[]
[]
[]
[]
[]
[]
[]
[]
[]
[]
[]
[]
[]
[]
[]
[]
[]
[]
[]
[]
[]
[]
[]
[]
[]
[]
[]
[]
[]
[]
[]
[]
[]
[]
[]
[]
[]
[]
[]
[]
[]
[]
[]
[]
[]
[]
[]
[]
[]
[]
[]
[]
[]
[]
[]
[]
[]
[]
[]
[]
[]
[]
[]
[]
[]
[]
[]
[]
[]
[]
[]
[]
[]
[]
[]
[]
[]
[]
[]
[]
[]
[]
[]
[]
[]
[]
[]
[]
[]
[]
[]
[]
[]
[]
[]
[]
[]
[]
[]
[]
[]
[]
[]
[]
[]
[]
[]
[]
[]
[]
[]
[]
[]
[]
[]
[]
[]
[]
[]
[]
[]
[]
[]
[]
[]
[]
[]
[]
[]
[]
[]
[]
[]
[]
[]
[]
[]
[]
[]
[]
[]
[]
[]
[]
[]
[]
[]
[]
[]
[]
[]
[]
[]
[]
[]
[]
[]
[]
[]
[]
[]
[]
[]
[]
[]
[]
[]
[]
[]
[]
[]
[]
[]
[]
[]
[]
[]
[]
[]
[]
[]
[]
[]
[]
[]
[]
[]
[]
[]
[]
[]
[]
[]
[]
[]
[]
[]
[]
[]
[]
[]
[]
[]
[]
[]
[]
[]
[]
[]
[]
[]
[]
[]
[]
[]
[]
[]
[]
[]
[]
[]
[]
[]
[]
[]
[]
[]
[]
[]
[]
[]
[]
[]
[]
[]
[]
[]
[]
[]
[]
[]
[]
[]
[]
[]
[]
[]
[]
[]
[]
[]
[]
[]
[]
[]
[]
[]
[]
[]
[]
[]
[]
[]
[]
[]
[]
[]
[]
[]
[]
[]
[]
[]
[]
[]
[]
[]
[]
[]
[]
[]
[]
[]
[]
[]
[]
[]
[]
[]
[]
[]
[]
[]
[]
[]
[]
[]
[]
[]
[]
[]
[]
[]
[]
[]
[]
[]
[]
[]
[]
[]
[]
[]
[]
[]
[]
[]
[]
[]
[]
[]
[]
[]
[]
[]
[]
[]
[]
[]
[]
[]
[]
[]
[]
[]
[]
[]
[]
[]
[]
[]
[]
[]
[]
[]
[]
[]
[]
[]
[]
[]
[]
[]
[]
[]
[]
[]
[]
[]
[]
[]
[]
[]
[]
[]
[]
[]
[]
[]
[]
[]
[]
[]
[]
[]
[]
[]
[]
[]
[]
[]
[]
[]
[]
[]
[]
[]
[]
[]
[]
[]
[]
[]
[]
[]
[]
[]
[]
[]
[]
[]
[]
[]
[]
[]
[]
[]
[]
[]
[]
[]
[]
[]
[]
[]
[]
[]
[]
[]
[]
[]
[]
[]
[]
[]
[]
[]
[]
[]
[]
[]
[]
[]
[]
[]
[]
[]
[]
[]
[]
[]
[]
[]
[]
[]
[]
[]
[]
[]
[]
[]
[]
[]
[]
[]
[]
[]
[]
[]
[]
[]
[]
[]
[]
[]
[]
[]
[]
[]
[]
[]
[]
[]
[]
[]
[]
[]
[]
[]
[]
[]
[]
[]
[]
[]
[]
[]
[]
[]
[]
[]
[]
[]
[]
[]
[]
[]
[]
[]
[]
[]
[]
[]
[]
[]
[]
[]
[]
[]
[]
[]
[]
[]
[]
[]
[]
[]
[]
[]
[]
[]
[]
[]
[]
[]
[]
[]
[]
[]
[]
[]
[]
[]
[]
[]
[]
[]
[]
[]
[]
[]
[]
[]
[]
[]
[]
[]
[]
[]
[{"$f":"1+1","v":2}]

{"sheet":"DEMANDA COTA-EXTRA","index":1,"n_rows":16,"n_cols":23,"rows_kept":16,"cut":false,"hidden":false,"merged":[[4,2,4,6]]}
[null,"UNIVERSIDADE DO ESTADO DO RIO DE JANEIRO"]
[null,"PRÓ-REITORIA DE PÓS-GRADUAÇÃO E PESQUISA"]
[null,"COORDENADORIA DE GESTÃO DE PROJETOS INSTITUCIONAIS"]
[]
[null,null,"PRINTUERJ - CADASTRO DE DEMANDAS DE COTA-EXTRA DOUTORADO SANDUICHE (BOLSAS COM INÍCIO ENTRE JANEIRO A MARÇO DE 2021)"]
[null,null,"SELECIONE \nCOORDENADOR","TEMA","Projeto","PPG","Conceito Capes","NOME DO CANDIDATO","MÊS E ANO DE INÍCIO DO CURSO DE DOUTORADO DO CANDIDATO A BOLSA","NOME DO ORIENTADOR NA UERJ","IES E PAÍS DE DESTINO","Nº de MESES de BOLSA","JUSTIFICATIVA CASO SEJA SOLICITADO MAIS QUE 6 MESES DE BOLSA","INÍCIO PRETENDIDO DA BOLSA","MÊS DE TÉRMINO","Valor","MÊS TERMINO","VALOR - BOLSAS SANDUICHE",null,"CANDIDATO CONSTA DE ATA DE SELEÇÃO REALIZADA?","CANDIDATO POSSUI CARTA DE ACEITE DA IES DE DESTINO?","CANDIDATO POSSUI PROFICIÊNCIA?","Observação"]
[{"$f":"IF(C7=\"\",\"\",VLOOKUP(C7,CONTROLES!A:F,2,FALSE))","v":""},1,null,{"$f":"IF(C7=\"\",\"\",VLOOKUP(C7,CONTROLES!A:F,3,FALSE))","v":""},{"$f":"IF(C7=\"\",\"\",VLOOKUP(C7,CONTROLES!A:F,4,FALSE))","v":""},{"$f":"IF(C7=\"\",\"\",VLOOKUP(C7,CONTROLES!A:F,5,FALSE))","v":""},{"$f":"IF(C7=\"\",\"\",VLOOKUP(C7,CONTROLES!A:F,6,FALSE))","v":""},null,null,null,null,null,null,null,{"$f":"IF(OR(L7=\"\",N7=\"\"),\"Selecione o número de meses de bolsa e o início pretendido\",EDATE(N7,L7)-1)","v":"Selecione o número de meses de bolsa e o início pretendido"},{"$f":"IF(L7=\"\",\"\",VLOOKUP(L7,CONTROLES!$K$4:$L$10,2,FALSE))","v":""}]
[{"$f":"IF(C8=\"\",\"\",VLOOKUP(C8,CONTROLES!A:F,2,FALSE))","v":""},2,null,{"$f":"IF(C8=\"\",\"\",VLOOKUP(C8,CONTROLES!A:F,3,FALSE))","v":""},{"$f":"IF(C8=\"\",\"\",VLOOKUP(C8,CONTROLES!A:F,4,FALSE))","v":""},{"$f":"IF(C8=\"\",\"\",VLOOKUP(C8,CONTROLES!A:F,5,FALSE))","v":""},{"$f":"IF(C8=\"\",\"\",VLOOKUP(C8,CONTROLES!A:F,6,FALSE))","v":""},null,null,null,null,null,null,null,{"$f":"IF(OR(L8=\"\",N8=\"\"),\"Selecione o número de meses de bolsa e o início pretendido\",EDATE(N8,L8)-1)","v":"Selecione o número de meses de bolsa e o início pretendido"},{"$f":"IF(L8=\"\",\"\",VLOOKUP(L8,CONTROLES!$K$4:$L$10,2,FALSE))","v":""}]
[{"$f":"IF(C9=\"\",\"\",VLOOKUP(C9,CONTROLES!A:F,2,FALSE))","v":""},3,null,{"$f":"IF(C9=\"\",\"\",VLOOKUP(C9,CONTROLES!A:F,3,FALSE))","v":""},{"$f":"IF(C9=\"\",\"\",VLOOKUP(C9,CONTROLES!A:F,4,FALSE))","v":""},{"$f":"IF(C9=\"\",\"\",VLOOKUP(C9,CONTROLES!A:F,5,FALSE))","v":""},{"$f":"IF(C9=\"\",\"\",VLOOKUP(C9,CONTROLES!A:F,6,FALSE))","v":""},null,null,null,null,null,null,null,"Selecione o número de meses de bolsa e o início pretendido",{"$f":"IF(L9=\"\",\"\",VLOOKUP(L9,CONTROLES!$K$4:$L$10,2,FALSE))","v":""}]
[{"$f":"IF(C10=\"\",\"\",VLOOKUP(C10,CONTROLES!A:F,2,FALSE))","v":""},4,null,{"$f":"IF(C10=\"\",\"\",VLOOKUP(C10,CONTROLES!A:F,3,FALSE))","v":""},{"$f":"IF(C10=\"\",\"\",VLOOKUP(C10,CONTROLES!A:F,4,FALSE))","v":""},{"$f":"IF(C10=\"\",\"\",VLOOKUP(C10,CONTROLES!A:F,5,FALSE))","v":""},{"$f":"IF(C10=\"\",\"\",VLOOKUP(C10,CONTROLES!A:F,6,FALSE))","v":""},null,null,null,null,null,null,null,"Selecione o número de meses de bolsa e o início pretendido",{"$f":"IF(L10=\"\",\"\",VLOOKUP(L10,CONTROLES!$K$4:$L$10,2,FALSE))","v":""}]
[{"$f":"IF(C11=\"\",\"\",VLOOKUP(C11,CONTROLES!A:F,2,FALSE))","v":""},5,null,{"$f":"IF(C11=\"\",\"\",VLOOKUP(C11,CONTROLES!A:F,3,FALSE))","v":""},{"$f":"IF(C11=\"\",\"\",VLOOKUP(C11,CONTROLES!A:F,4,FALSE))","v":""},{"$f":"IF(C11=\"\",\"\",VLOOKUP(C11,CONTROLES!A:F,5,FALSE))","v":""},{"$f":"IF(C11=\"\",\"\",VLOOKUP(C11,CONTROLES!A:F,6,FALSE))","v":""},null,null,null,null,null,null,null,"Selecione o número de meses de bolsa e o início pretendido",{"$f":"IF(L11=\"\",\"\",VLOOKUP(L11,CONTROLES!$K$4:$L$10,2,FALSE))","v":""}]
[{"$f":"IF(C12=\"\",\"\",VLOOKUP(C12,CONTROLES!A:F,2,FALSE))","v":""},6,null,{"$f":"IF(C12=\"\",\"\",VLOOKUP(C12,CONTROLES!A:F,3,FALSE))","v":""},{"$f":"IF(C12=\"\",\"\",VLOOKUP(C12,CONTROLES!A:F,4,FALSE))","v":""},{"$f":"IF(C12=\"\",\"\",VLOOKUP(C12,CONTROLES!A:F,5,FALSE))","v":""},{"$f":"IF(C12=\"\",\"\",VLOOKUP(C12,CONTROLES!A:F,6,FALSE))","v":""},null,null,null,null,null,null,null,"Selecione o número de meses de bolsa e o início pretendido",{"$f":"IF(L12=\"\",\"\",VLOOKUP(L12,CONTROLES!$K$4:$L$10,2,FALSE))","v":""}]
[{"$f":"IF(C13=\"\",\"\",VLOOKUP(C13,CONTROLES!A:F,2,FALSE))","v":""},7,null,{"$f":"IF(C13=\"\",\"\",VLOOKUP(C13,CONTROLES!A:F,3,FALSE))","v":""},{"$f":"IF(C13=\"\",\"\",VLOOKUP(C13,CONTROLES!A:F,4,FALSE))","v":""},{"$f":"IF(C13=\"\",\"\",VLOOKUP(C13,CONTROLES!A:F,5,FALSE))","v":""},{"$f":"IF(C13=\"\",\"\",VLOOKUP(C13,CONTROLES!A:F,6,FALSE))","v":""},null,null,null,null,null,null,null,"Selecione o número de meses de bolsa e o início pretendido",{"$f":"IF(L13=\"\",\"\",VLOOKUP(L13,CONTROLES!$K$4:$L$10,2,FALSE))","v":""}]
[{"$f":"IF(C14=\"\",\"\",VLOOKUP(C14,CONTROLES!A:F,2,FALSE))","v":""},8,null,{"$f":"IF(C14=\"\",\"\",VLOOKUP(C14,CONTROLES!A:F,3,FALSE))","v":""},{"$f":"IF(C14=\"\",\"\",VLOOKUP(C14,CONTROLES!A:F,4,FALSE))","v":""},{"$f":"IF(C14=\"\",\"\",VLOOKUP(C14,CONTROLES!A:F,5,FALSE))","v":""},{"$f":"IF(C14=\"\",\"\",VLOOKUP(C14,CONTROLES!A:F,6,FALSE))","v":""},null,null,null,null,null,null,null,"Selecione o número de meses de bolsa e o início pretendido",{"$f":"IF(L14=\"\",\"\",VLOOKUP(L14,CONTROLES!$K$4:$L$10,2,FALSE))","v":""}]
[{"$f":"IF(C15=\"\",\"\",VLOOKUP(C15,CONTROLES!A:F,2,FALSE))","v":""},9,null,{"$f":"IF(C15=\"\",\"\",VLOOKUP(C15,CONTROLES!A:F,3,FALSE))","v":""},{"$f":"IF(C15=\"\",\"\",VLOOKUP(C15,CONTROLES!A:F,4,FALSE))","v":""},{"$f":"IF(C15=\"\",\"\",VLOOKUP(C15,CONTROLES!A:F,5,FALSE))","v":""},{"$f":"IF(C15=\"\",\"\",VLOOKUP(C15,CONTROLES!A:F,6,FALSE))","v":""},null,null,null,null,null,null,null,"Selecione o número de meses de bolsa e o início pretendido",{"$f":"IF(L15=\"\",\"\",VLOOKUP(L15,CONTROLES!$K$4:$L$10,2,FALSE))","v":""}]
[{"$f":"IF(C16=\"\",\"\",VLOOKUP(C16,CONTROLES!A:F,2,FALSE))","v":""},10,null,{"$f":"IF(C16=\"\",\"\",VLOOKUP(C16,CONTROLES!A:F,3,FALSE))","v":""},{"$f":"IF(C16=\"\",\"\",VLOOKUP(C16,CONTROLES!A:F,4,FALSE))","v":""},{"$f":"IF(C16=\"\",\"\",VLOOKUP(C16,CONTROLES!A:F,5,FALSE))","v":""},{"$f":"IF(C16=\"\",\"\",VLOOKUP(C16,CONTROLES!A:F,6,FALSE))","v":""},null,null,null,null,null,null,null,"Selecione o número de meses de bolsa e o início pretendido",{"$f":"IF(L16=\"\",\"\",VLOOKUP(L16,CONTROLES!$K$4:$L$10,2,FALSE))","v":""}]

{"sheet":"Consolidação","index":2,"n_rows":1048574,"n_cols":18,"rows_kept":4500,"cut":true,"hidden":true,"merged":[[1,16,1,17],[0,2,0,7]],"bounds":{"rows_first":2000,"rows_last":500,"rows_between":2000,"halvings":0}}
[null,null,"Consolidação SOLICITAÇOES SANDUICHE PRINT SR-2",null,null,null,null,null,"TOTAIS>>>>",{"$f":"SUM(J2:J32)","v":0},{"$f":"SUM(K2:K32)","v":0},{"$f":"SUM(L2:L32)","v":0},0,{"$f":"SUM(N2:N32)","v":0}]
[null,null,null,null,"COORDENAÇÃO DO PROJETO","TEMA","Projeto","PPG","Conceito Capes","Pedidos","Total de Meses solicitados","Total R$ solicitado para 2019","Total R$ solicitado para 2020","Total R$ geral solicitado",null,null,"Valores PDSE na SR-2"]
[null,null,1,{"$f":"IF(ISERR(SMALL('DEMANDA COTA-EXTRA'!S:S,C3))=TRUE,\"\",SMALL('DEMANDA COTA-EXTRA'!S:S,C3))","v":""},{"$f":"IF(D3=\"\",\"\",VLOOKUP(Consolidação!D3,'DEMANDA COTA-EXTRA'!A:C,3,FALSE))","v":""},{"$f":"IF(E3=\"\",\"\",VLOOKUP(E3,CONTROLES!A:F,3,FALSE))","v":""},{"$f":"IF(E3=\"\",\"\",VLOOKUP(E3,CONTROLES!A:F,4,FALSE))","v":""},{"$f":"IF(E3=\"\",\"\",VLOOKUP(E3,CONTROLES!A:F,5,FALSE))","v":""},{"$f":"IF(E3=\"\",\"\",VLOOKUP(E3,CONTROLES!A:F,6,FALSE))","v":""},{"$f":"IF(E3=\"\",\"\",COUNTIF('DEMANDA COTA-EXTRA'!C:C,Consolidação!E3))","v":""},{"$f":"IF(E3=\"\",\"\",SUMIFS('DEMANDA COTA-EXTRA'!L:L,'DEMANDA COTA-EXTRA'!C:C,Consolidação!E3))","v":""},{"$f":"IF($E3=\"\",\"\",SUMIFS('DEMANDA COTA-EXTRA'!$R:$R,'DEMANDA COTA-EXTRA'!$C:$C,Consolidação!$E3,'DEMANDA COTA-EXTRA'!#REF!,2019))","v":""},{"$f":"IF($E3=\"\",\"\",SUMIFS('DEMANDA COTA-EXTRA'!$R:$R,'DEMANDA COTA-EXTRA'!$C:$C,Consolidação!$E3,'DEMANDA COTA-EXTRA'!#REF!,2020))","v":""},{"$f":"IF(E3=\"\",\"\",SUMIFS('DEMANDA COTA-EXTRA'!R:R,'DEMANDA COTA-EXTRA'!C:C,Consolidação!E3))","v":""},null,null,2019,305107.20000000001]
[null,null,2,{"$f":"IF(ISERR(SMALL('DEMANDA COTA-EXTRA'!S:S,C4))=TRUE,\"\",SMALL('DEMANDA COTA-EXTRA'!S:S,C4))","v":""},{"$f":"IF(D4=\"\",\"\",VLOOKUP(Consolidação!D4,'DEMANDA COTA-EXTRA'!A:C,3,FALSE))","v":""},{"$f":"IF(E4=\"\",\"\",VLOOKUP(E4,CONTROLES!A:F,3,FALSE))","v":""},{"$f":"IF(E4=\"\",\"\",VLOOKUP(E4,CONTROLES!A:F,4,FALSE))","v":""},{"$f":"IF(E4=\"\",\"\",VLOOKUP(E4,CONTROLES!A:F,5,FALSE))","v":""},{"$f":"IF(E4=\"\",\"\",VLOOKUP(E4,CONTROLES!A:F,6,FALSE))","v":""},{"$f":"IF(E4=\"\",\"\",COUNTIF('DEMANDA COTA-EXTRA'!C:C,Consolidação!E4))","v":""},{"$f":"IF(E4=\"\",\"\",SUMIFS('DEMANDA COTA-EXTRA'!L:L,'DEMANDA COTA-EXTRA'!C:C,Consolidação!E4))","v":""},{"$f":"IF($E4=\"\",\"\",SUMIFS('DEMANDA COTA-EXTRA'!$R:$R,'DEMANDA COTA-EXTRA'!$C:$C,Consolidação!$E4,'DEMANDA COTA-EXTRA'!#REF!,2019))","v":""},{"$f":"IF($E4=\"\",\"\",SUMIFS('DEMANDA COTA-EXTRA'!$R:$R,'DEMANDA COTA-EXTRA'!$C:$C,Consolidação!$E4,'DEMANDA COTA-EXTRA'!#REF!,2020))","v":""},{"$f":"IF(E4=\"\",\"\",SUMIFS('DEMANDA COTA-EXTRA'!R:R,'DEMANDA COTA-EXTRA'!C:C,Consolidação!E4))","v":""},null,null,2020,386064.00000000006]
[null,null,3,{"$f":"IF(ISERR(SMALL('DEMANDA COTA-EXTRA'!S:S,C5))=TRUE,\"\",SMALL('DEMANDA COTA-EXTRA'!S:S,C5))","v":""},{"$f":"IF(D5=\"\",\"\",VLOOKUP(Consolidação!D5,'DEMANDA COTA-EXTRA'!A:C,3,FALSE))","v":""},{"$f":"IF(E5=\"\",\"\",VLOOKUP(E5,CONTROLES!A:F,3,FALSE))","v":""},{"$f":"IF(E5=\"\",\"\",VLOOKUP(E5,CONTROLES!A:F,4,FALSE))","v":""},{"$f":"IF(E5=\"\",\"\",VLOOKUP(E5,CONTROLES!A:F,5,FALSE))","v":""},{"$f":"IF(E5=\"\",\"\",VLOOKUP(E5,CONTROLES!A:F,6,FALSE))","v":""},{"$f":"IF(E5=\"\",\"\",COUNTIF('DEMANDA COTA-EXTRA'!C:C,Consolidação!E5))","v":""},{"$f":"IF(E5=\"\",\"\",SUMIFS('DEMANDA COTA-EXTRA'!L:L,'DEMANDA COTA-EXTRA'!C:C,Consolidação!E5))","v":""},{"$f":"IF($E5=\"\",\"\",SUMIFS('DEMANDA COTA-EXTRA'!$R:$R,'DEMANDA COTA-EXTRA'!$C:$C,Consolidação!$E5,'DEMANDA COTA-EXTRA'!#REF!,2019))","v":""},{"$f":"IF($E5=\"\",\"\",SUMIFS('DEMANDA COTA-EXTRA'!$R:$R,'DEMANDA COTA-EXTRA'!$C:$C,Consolidação!$E5,'DEMANDA COTA-EXTRA'!#REF!,2020))","v":""},{"$f":"IF(E5=\"\",\"\",SUMIFS('DEMANDA COTA-EXTRA'!R:R,'DEMANDA COTA-EXTRA'!C:C,Consolidação!E5))","v":""}]
[null,null,4,{"$f":"IF(ISERR(SMALL('DEMANDA COTA-EXTRA'!S:S,C6))=TRUE,\"\",SMALL('DEMANDA COTA-EXTRA'!S:S,C6))","v":""},{"$f":"IF(D6=\"\",\"\",VLOOKUP(Consolidação!D6,'DEMANDA COTA-EXTRA'!A:C,3,FALSE))","v":""},{"$f":"IF(E6=\"\",\"\",VLOOKUP(E6,CONTROLES!A:F,3,FALSE))","v":""},{"$f":"IF(E6=\"\",\"\",VLOOKUP(E6,CONTROLES!A:F,4,FALSE))","v":""},{"$f":"IF(E6=\"\",\"\",VLOOKUP(E6,CONTROLES!A:F,5,FALSE))","v":""},{"$f":"IF(E6=\"\",\"\",VLOOKUP(E6,CONTROLES!A:F,6,FALSE))","v":""},{"$f":"IF(E6=\"\",\"\",COUNTIF('DEMANDA COTA-EXTRA'!C:C,Consolidação!E6))","v":""},{"$f":"IF(E6=\"\",\"\",SUMIFS('DEMANDA COTA-EXTRA'!L:L,'DEMANDA COTA-EXTRA'!C:C,Consolidação!E6))","v":""},{"$f":"IF($E6=\"\",\"\",SUMIFS('DEMANDA COTA-EXTRA'!$R:$R,'DEMANDA COTA-EXTRA'!$C:$C,Consolidação!$E6,'DEMANDA COTA-EXTRA'!#REF!,2019))","v":""},{"$f":"IF($E6=\"\",\"\",SUMIFS('DEMANDA COTA-EXTRA'!$R:$R,'DEMANDA COTA-EXTRA'!$C:$C,Consolidação!$E6,'DEMANDA COTA-EXTRA'!#REF!,2020))","v":""},{"$f":"IF(E6=\"\",\"\",SUMIFS('DEMANDA COTA-EXTRA'!R:R,'DEMANDA COTA-EXTRA'!C:C,Consolidação!E6))","v":""},null,null,"PERIODO INICIO BOLSA","CALENDÁRIO INDICAÇÃO"]
[null,null,5,{"$f":"IF(ISERR(SMALL('DEMANDA COTA-EXTRA'!S:S,C7))=TRUE,\"\",SMALL('DEMANDA COTA-EXTRA'!S:S,C7))","v":""},{"$f":"IF(D7=\"\",\"\",VLOOKUP(Consolidação!D7,'DEMANDA COTA-EXTRA'!A:C,3,FALSE))","v":""},{"$f":"IF(E7=\"\",\"\",VLOOKUP(E7,CONTROLES!A:F,3,FALSE))","v":""},{"$f":"IF(E7=\"\",\"\",VLOOKUP(E7,CONTROLES!A:F,4,FALSE))","v":""},{"$f":"IF(E7=\"\",\"\",VLOOKUP(E7,CONTROLES!A:F,5,FALSE))","v":""},{"$f":"IF(E7=\"\",\"\",VLOOKUP(E7,CONTROLES!A:F,6,FALSE))","v":""},{"$f":"IF(E7=\"\",\"\",COUNTIF('DEMANDA COTA-EXTRA'!C:C,Consolidação!E7))","v":""},{"$f":"IF(E7=\"\",\"\",SUMIFS('DEMANDA COTA-EXTRA'!L:L,'DEMANDA COTA-EXTRA'!C:C,Consolidação!E7))","v":""},{"$f":"IF($E7=\"\",\"\",SUMIFS('DEMANDA COTA-EXTRA'!$R:$R,'DEMANDA COTA-EXTRA'!$C:$C,Consolidação!$E7,'DEMANDA COTA-EXTRA'!#REF!,2019))","v":""},{"$f":"IF($E7=\"\",\"\",SUMIFS('DEMANDA COTA-EXTRA'!$R:$R,'DEMANDA COTA-EXTRA'!$C:$C,Consolidação!$E7,'DEMANDA COTA-EXTRA'!#REF!,2020))","v":""},{"$f":"IF(E7=\"\",\"\",SUMIFS('DEMANDA COTA-EXTRA'!R:R,'DEMANDA COTA-EXTRA'!C:C,Consolidação!E7))","v":""},null,null,"ABRIL A JUNHO","4 FEVEREIRO A 15 DE MARÇO"]
[null,null,6,{"$f":"IF(ISERR(SMALL('DEMANDA COTA-EXTRA'!S:S,C8))=TRUE,\"\",SMALL('DEMANDA COTA-EXTRA'!S:S,C8))","v":""},{"$f":"IF(D8=\"\",\"\",VLOOKUP(Consolidação!D8,'DEMANDA COTA-EXTRA'!A:C,3,FALSE))","v":""},{"$f":"IF(E8=\"\",\"\",VLOOKUP(E8,CONTROLES!A:F,3,FALSE))","v":""},{"$f":"IF(E8=\"\",\"\",VLOOKUP(E8,CONTROLES!A:F,4,FALSE))","v":""},{"$f":"IF(E8=\"\",\"\",VLOOKUP(E8,CONTROLES!A:F,5,FALSE))","v":""},{"$f":"IF(E8=\"\",\"\",VLOOKUP(E8,CONTROLES!A:F,6,FALSE))","v":""},{"$f":"IF(E8=\"\",\"\",COUNTIF('DEMANDA COTA-EXTRA'!C:C,Consolidação!E8))","v":""},{"$f":"IF(E8=\"\",\"\",SUMIFS('DEMANDA COTA-EXTRA'!L:L,'DEMANDA COTA-EXTRA'!C:C,Consolidação!E8))","v":""},{"$f":"IF($E8=\"\",\"\",SUMIFS('DEMANDA COTA-EXTRA'!$R:$R,'DEMANDA COTA-EXTRA'!$C:$C,Consolidação!$E8,'DEMANDA COTA-EXTRA'!#REF!,2019))","v":""},{"$f":"IF($E8=\"\",\"\",SUMIFS('DEMANDA COTA-EXTRA'!$R:$R,'DEMANDA COTA-EXTRA'!$C:$C,Consolidação!$E8,'DEMANDA COTA-EXTRA'!#REF!,2020))","v":""},{"$f":"IF(E8=\"\",\"\",SUMIFS('DEMANDA COTA-EXTRA'!R:R,'DEMANDA COTA-EXTRA'!C:C,Consolidação!E8))","v":""},null,null,"JUNHO A SETEMBRO","1 DE ABRIL A 31 DE MAIO"]
[null,null,7,{"$f":"IF(ISERR(SMALL('DEMANDA COTA-EXTRA'!S:S,C9))=TRUE,\"\",SMALL('DEMANDA COTA-EXTRA'!S:S,C9))","v":""},{"$f":"IF(D9=\"\",\"\",VLOOKUP(Consolidação!D9,'DEMANDA COTA-EXTRA'!A:C,3,FALSE))","v":""},{"$f":"IF(E9=\"\",\"\",VLOOKUP(E9,CONTROLES!A:F,3,FALSE))","v":""},{"$f":"IF(E9=\"\",\"\",VLOOKUP(E9,CONTROLES!A:F,4,FALSE))","v":""},{"$f":"IF(E9=\"\",\"\",VLOOKUP(E9,CONTROLES!A:F,5,FALSE))","v":""},{"$f":"IF(E9=\"\",\"\",VLOOKUP(E9,CONTROLES!A:F,6,FALSE))","v":""},{"$f":"IF(E9=\"\",\"\",COUNTIF('DEMANDA COTA-EXTRA'!C:C,Consolidação!E9))","v":""},{"$f":"IF(E9=\"\",\"\",SUMIFS('DEMANDA COTA-EXTRA'!L:L,'DEMANDA COTA-EXTRA'!C:C,Consolidação!E9))","v":""},{"$f":"IF($E9=\"\",\"\",SUMIFS('DEMANDA COTA-EXTRA'!$R:$R,'DEMANDA COTA-EXTRA'!$C:$C,Consolidação!$E9,'DEMANDA COTA-EXTRA'!#REF!,2019))","v":""},{"$f":"IF($E9=\"\",\"\",SUMIFS('DEMANDA COTA-EXTRA'!$R:$R,'DEMANDA COTA-EXTRA'!$C:$C,Consolidação!$E9,'DEMANDA COTA-EXTRA'!#REF!,2020))","v":""},{"$f":"IF(E9=\"\",\"\",SUMIFS('DEMANDA COTA-EXTRA'!R:R,'DEMANDA COTA-EXTRA'!C:C,Consolidação!E9))","v":""},null,null,"OUTUBRO A DEZEMBRO","01 DE JULHO A 15 DE AGOSTO"]
[null,null,8,{"$f":"IF(ISERR(SMALL('DEMANDA COTA-EXTRA'!S:S,C10))=TRUE,\"\",SMALL('DEMANDA COTA-EXTRA'!S:S,C10))","v":""},{"$f":"IF(D10=\"\",\"\",VLOOKUP(Consolidação!D10,'DEMANDA COTA-EXTRA'!A:C,3,FALSE))","v":""},{"$f":"IF(E10=\"\",\"\",VLOOKUP(E10,CONTROLES!A:F,3,FALSE))","v":""},{"$f":"IF(E10=\"\",\"\",VLOOKUP(E10,CONTROLES!A:F,4,FALSE))","v":""},{"$f":"IF(E10=\"\",\"\",VLOOKUP(E10,CONTROLES!A:F,5,FALSE))","v":""},{"$f":"IF(E10=\"\",\"\",VLOOKUP(E10,CONTROLES!A:F,6,FALSE))","v":""},{"$f":"IF(E10=\"\",\"\",COUNTIF('DEMANDA COTA-EXTRA'!C:C,Consolidação!E10))","v":""},{"$f":"IF(E10=\"\",\"\",SUMIFS('DEMANDA COTA-EXTRA'!L:L,'DEMANDA COTA-EXTRA'!C:C,Consolidação!E10))","v":""},{"$f":"IF($E10=\"\",\"\",SUMIFS('DEMANDA COTA-EXTRA'!$R:$R,'DEMANDA COTA-EXTRA'!$C:$C,Consolidação!$E10,'DEMANDA COTA-EXTRA'!#REF!,2019))","v":""},{"$f":"IF($E10=\"\",\"\",SUMIFS('DEMANDA COTA-EXTRA'!$R:$R,'DEMANDA COTA-EXTRA'!$C:$C,Consolidação!$E10,'DEMANDA COTA-EXTRA'!#REF!,2020))","v":""},{"$f":"IF(E10=\"\",\"\",SUMIFS('DEMANDA COTA-EXTRA'!R:R,'DEMANDA COTA-EXTRA'!C:C,Consolidação!E10))","v":""},null,null,"JANEIRO A MARÇO","01 A 30 DE NOVEMBRO"]
[null,null,9,{"$f":"IF(ISERR(SMALL('DEMANDA COTA-EXTRA'!S:S,C11))=TRUE,\"\",SMALL('DEMANDA COTA-EXTRA'!S:S,C11))","v":""},{"$f":"IF(D11=\"\",\"\",VLOOKUP(Consolidação!D11,'DEMANDA COTA-EXTRA'!A:C,3,FALSE))","v":""},{"$f":"IF(E11=\"\",\"\",VLOOKUP(E11,CONTROLES!A:F,3,FALSE))","v":""},{"$f":"IF(E11=\"\",\"\",VLOOKUP(E11,CONTROLES!A:F,4,FALSE))","v":""},{"$f":"IF(E11=\"\",\"\",VLOOKUP(E11,CONTROLES!A:F,5,FALSE))","v":""},{"$f":"IF(E11=\"\",\"\",VLOOKUP(E11,CONTROLES!A:F,6,FALSE))","v":""},{"$f":"IF(E11=\"\",\"\",COUNTIF('DEMANDA COTA-EXTRA'!C:C,Consolidação!E11))","v":""},{"$f":"IF(E11=\"\",\"\",SUMIFS('DEMANDA COTA-EXTRA'!L:L,'DEMANDA COTA-EXTRA'!C:C,Consolidação!E11))","v":""},{"$f":"IF($E11=\"\",\"\",SUMIFS('DEMANDA COTA-EXTRA'!$R:$R,'DEMANDA COTA-EXTRA'!$C:$C,Consolidação!$E11,'DEMANDA COTA-EXTRA'!#REF!,2019))","v":""},{"$f":"IF($E11=\"\",\"\",SUMIFS('DEMANDA COTA-EXTRA'!$R:$R,'DEMANDA COTA-EXTRA'!$C:$C,Consolidação!$E11,'DEMANDA COTA-EXTRA'!#REF!,2020))","v":""},{"$f":"IF(E11=\"\",\"\",SUMIFS('DEMANDA COTA-EXTRA'!R:R,'DEMANDA COTA-EXTRA'!C:C,Consolidação!E11))","v":""}]
[null,null,10,{"$f":"IF(ISERR(SMALL('DEMANDA COTA-EXTRA'!S:S,C12))=TRUE,\"\",SMALL('DEMANDA COTA-EXTRA'!S:S,C12))","v":""},{"$f":"IF(D12=\"\",\"\",VLOOKUP(Consolidação!D12,'DEMANDA COTA-EXTRA'!A:C,3,FALSE))","v":""},{"$f":"IF(E12=\"\",\"\",VLOOKUP(E12,CONTROLES!A:F,3,FALSE))","v":""},{"$f":"IF(E12=\"\",\"\",VLOOKUP(E12,CONTROLES!A:F,4,FALSE))","v":""},{"$f":"IF(E12=\"\",\"\",VLOOKUP(E12,CONTROLES!A:F,5,FALSE))","v":""},{"$f":"IF(E12=\"\",\"\",VLOOKUP(E12,CONTROLES!A:F,6,FALSE))","v":""},{"$f":"IF(E12=\"\",\"\",COUNTIF('DEMANDA COTA-EXTRA'!C:C,Consolidação!E12))","v":""},{"$f":"IF(E12=\"\",\"\",SUMIFS('DEMANDA COTA-EXTRA'!L:L,'DEMANDA COTA-EXTRA'!C:C,Consolidação!E12))","v":""},{"$f":"IF($E12=\"\",\"\",SUMIFS('DEMANDA COTA-EXTRA'!$R:$R,'DEMANDA COTA-EXTRA'!$C:$C,Consolidação!$E12,'DEMANDA COTA-EXTRA'!#REF!,2019))","v":""},{"$f":"IF($E12=\"\",\"\",SUMIFS('DEMANDA COTA-EXTRA'!$R:$R,'DEMANDA COTA-EXTRA'!$C:$C,Consolidação!$E12,'DEMANDA COTA-EXTRA'!#REF!,2020))","v":""},{"$f":"IF(E12=\"\",\"\",SUMIFS('DEMANDA COTA-EXTRA'!R:R,'DEMANDA COTA-EXTRA'!C:C,Consolidação!E12))","v":""},null,null,"SOLICITAÇÃO COTA EXTRA PDSE - INTERNA","ATÉ 28/02/2019"]
[null,null,11,{"$f":"IF(ISERR(SMALL('DEMANDA COTA-EXTRA'!S:S,C13))=TRUE,\"\",SMALL('DEMANDA COTA-EXTRA'!S:S,C13))","v":""},{"$f":"IF(D13=\"\",\"\",VLOOKUP(Consolidação!D13,'DEMANDA COTA-EXTRA'!A:C,3,FALSE))","v":""},{"$f":"IF(E13=\"\",\"\",VLOOKUP(E13,CONTROLES!A:F,3,FALSE))","v":""},{"$f":"IF(E13=\"\",\"\",VLOOKUP(E13,CONTROLES!A:F,4,FALSE))","v":""},{"$f":"IF(E13=\"\",\"\",VLOOKUP(E13,CONTROLES!A:F,5,FALSE))","v":""},{"$f":"IF(E13=\"\",\"\",VLOOKUP(E13,CONTROLES!A:F,6,FALSE))","v":""},{"$f":"IF(E13=\"\",\"\",COUNTIF('DEMANDA COTA-EXTRA'!C:C,Consolidação!E13))","v":""},{"$f":"IF(E13=\"\",\"\",SUMIFS('DEMANDA COTA-EXTRA'!L:L,'DEMANDA COTA-EXTRA'!C:C,Consolidação!E13))","v":""},{"$f":"IF($E13=\"\",\"\",SUMIFS('DEMANDA COTA-EXTRA'!$R:$R,'DEMANDA COTA-EXTRA'!$C:$C,Consolidação!$E13,'DEMANDA COTA-EXTRA'!#REF!,2019))","v":""},{"$f":"IF($E13=\"\",\"\",SUMIFS('DEMANDA COTA-EXTRA'!$R:$R,'DEMANDA COTA-EXTRA'!$C:$C,Consolidação!$E13,'DEMANDA COTA-EXTRA'!#REF!,2020))","v":""},{"$f":"IF(E13=\"\",\"\",SUMIFS('DEMANDA COTA-EXTRA'!R:R,'DEMANDA COTA-EXTRA'!C:C,Consolidação!E13))","v":""}]
[null,null,12,{"$f":"IF(ISERR(SMALL('DEMANDA COTA-EXTRA'!S:S,C14))=TRUE,\"\",SMALL('DEMANDA COTA-EXTRA'!S:S,C14))","v":""},{"$f":"IF(D14=\"\",\"\",VLOOKUP(Consolidação!D14,'DEMANDA COTA-EXTRA'!A:C,3,FALSE))","v":""},{"$f":"IF(E14=\"\",\"\",VLOOKUP(E14,CONTROLES!A:F,3,FALSE))","v":""},{"$f":"IF(E14=\"\",\"\",VLOOKUP(E14,CONTROLES!A:F,4,FALSE))","v":""},{"$f":"IF(E14=\"\",\"\",VLOOKUP(E14,CONTROLES!A:F,5,FALSE))","v":""},{"$f":"IF(E14=\"\",\"\",VLOOKUP(E14,CONTROLES!A:F,6,FALSE))","v":""},{"$f":"IF(E14=\"\",\"\",COUNTIF('DEMANDA COTA-EXTRA'!C:C,Consolidação!E14))","v":""},{"$f":"IF(E14=\"\",\"\",SUMIFS('DEMANDA COTA-EXTRA'!L:L,'DEMANDA COTA-EXTRA'!C:C,Consolidação!E14))","v":""},{"$f":"IF($E14=\"\",\"\",SUMIFS('DEMANDA COTA-EXTRA'!$R:$R,'DEMANDA COTA-EXTRA'!$C:$C,Consolidação!$E14,'DEMANDA COTA-EXTRA'!#REF!,2019))","v":""},{"$f":"IF($E14=\"\",\"\",SUMIFS('DEMANDA COTA-EXTRA'!$R:$R,'DEMANDA COTA-EXTRA'!$C:$C,Consolidação!$E14,'DEMANDA COTA-EXTRA'!#REF!,2020))","v":""},{"$f":"IF(E14=\"\",\"\",SUMIFS('DEMANDA COTA-EXTRA'!R:R,'DEMANDA COTA-EXTRA'!C:C,Consolidação!E14))","v":""}]
[null,null,13,{"$f":"IF(ISERR(SMALL('DEMANDA COTA-EXTRA'!S:S,C15))=TRUE,\"\",SMALL('DEMANDA COTA-EXTRA'!S:S,C15))","v":""},{"$f":"IF(D15=\"\",\"\",VLOOKUP(Consolidação!D15,'DEMANDA COTA-EXTRA'!A:C,3,FALSE))","v":""},{"$f":"IF(E15=\"\",\"\",VLOOKUP(E15,CONTROLES!A:F,3,FALSE))","v":""},{"$f":"IF(E15=\"\",\"\",VLOOKUP(E15,CONTROLES!A:F,4,FALSE))","v":""},{"$f":"IF(E15=\"\",\"\",VLOOKUP(E15,CONTROLES!A:F,5,FALSE))","v":""},{"$f":"IF(E15=\"\",\"\",VLOOKUP(E15,CONTROLES!A:F,6,FALSE))","v":""},{"$f":"IF(E15=\"\",\"\",COUNTIF('DEMANDA COTA-EXTRA'!C:C,Consolidação!E15))","v":""},{"$f":"IF(E15=\"\",\"\",SUMIFS('DEMANDA COTA-EXTRA'!L:L,'DEMANDA COTA-EXTRA'!C:C,Consolidação!E15))","v":""},{"$f":"IF($E15=\"\",\"\",SUMIFS('DEMANDA COTA-EXTRA'!$R:$R,'DEMANDA COTA-EXTRA'!$C:$C,Consolidação!$E15,'DEMANDA COTA-EXTRA'!#REF!,2019))","v":""},{"$f":"IF($E15=\"\",\"\",SUMIFS('DEMANDA COTA-EXTRA'!$R:$R,'DEMANDA COTA-EXTRA'!$C:$C,Consolidação!$E15,'DEMANDA COTA-EXTRA'!#REF!,2020))","v":""},{"$f":"IF(E15=\"\",\"\",SUMIFS('DEMANDA COTA-EXTRA'!R:R,'DEMANDA COTA-EXTRA'!C:C,Consolidação!E15))","v":""}]
[null,null,14,{"$f":"IF(ISERR(SMALL('DEMANDA COTA-EXTRA'!S:S,C16))=TRUE,\"\",SMALL('DEMANDA COTA-EXTRA'!S:S,C16))","v":""},{"$f":"IF(D16=\"\",\"\",VLOOKUP(Consolidação!D16,'DEMANDA COTA-EXTRA'!A:C,3,FALSE))","v":""},{"$f":"IF(E16=\"\",\"\",VLOOKUP(E16,CONTROLES!A:F,3,FALSE))","v":""},{"$f":"IF(E16=\"\",\"\",VLOOKUP(E16,CONTROLES!A:F,4,FALSE))","v":""},{"$f":"IF(E16=\"\",\"\",VLOOKUP(E16,CONTROLES!A:F,5,FALSE))","v":""},{"$f":"IF(E16=\"\",\"\",VLOOKUP(E16,CONTROLES!A:F,6,FALSE))","v":""},{"$f":"IF(E16=\"\",\"\",COUNTIF('DEMANDA COTA-EXTRA'!C:C,Consolidação!E16))","v":""},{"$f":"IF(E16=\"\",\"\",SUMIFS('DEMANDA COTA-EXTRA'!L:L,'DEMANDA COTA-EXTRA'!C:C,Consolidação!E16))","v":""},{"$f":"IF($E16=\"\",\"\",SUMIFS('DEMANDA COTA-EXTRA'!$R:$R,'DEMANDA COTA-EXTRA'!$C:$C,Consolidação!$E16,'DEMANDA COTA-EXTRA'!#REF!,2019))","v":""},{"$f":"IF($E16=\"\",\"\",SUMIFS('DEMANDA COTA-EXTRA'!$R:$R,'DEMANDA COTA-EXTRA'!$C:$C,Consolidação!$E16,'DEMANDA COTA-EXTRA'!#REF!,2020))","v":""},{"$f":"IF(E16=\"\",\"\",SUMIFS('DEMANDA COTA-EXTRA'!R:R,'DEMANDA COTA-EXTRA'!C:C,Consolidação!E16))","v":""}]
[null,{"$f":"IF(D17=\"\",\"\",VLOOKUP(Consolidação!D17,'DEMANDA COTA-EXTRA'!A:C,2,FALSE))","v":""},15,{"$f":"IF(ISERR(SMALL('DEMANDA COTA-EXTRA'!S:S,C17))=TRUE,\"\",SMALL('DEMANDA COTA-EXTRA'!S:S,C17))","v":""},{"$f":"IF(D17=\"\",\"\",VLOOKUP(Consolidação!D17,'DEMANDA COTA-EXTRA'!A:C,3,FALSE))","v":""},{"$f":"IF(E17=\"\",\"\",VLOOKUP(E17,CONTROLES!A:F,3,FALSE))","v":""},{"$f":"IF(E17=\"\",\"\",VLOOKUP(E17,CONTROLES!A:F,4,FALSE))","v":""},{"$f":"IF(E17=\"\",\"\",VLOOKUP(E17,CONTROLES!A:F,5,FALSE))","v":""},{"$f":"IF(E17=\"\",\"\",VLOOKUP(E17,CONTROLES!A:F,6,FALSE))","v":""},{"$f":"IF(E17=\"\",\"\",COUNTIF('DEMANDA COTA-EXTRA'!C:C,Consolidação!E17))","v":""},{"$f":"IF(E17=\"\",\"\",SUMIFS('DEMANDA COTA-EXTRA'!L:L,'DEMANDA COTA-EXTRA'!C:C,Consolidação!E17))","v":""},{"$f":"IF($E17=\"\",\"\",SUMIFS('DEMANDA COTA-EXTRA'!$R:$R,'DEMANDA COTA-EXTRA'!$C:$C,Consolidação!$E17,'DEMANDA COTA-EXTRA'!#REF!,2019))","v":""},{"$f":"IF($E17=\"\",\"\",SUMIFS('DEMANDA COTA-EXTRA'!$R:$R,'DEMANDA COTA-EXTRA'!$C:$C,Consolidação!$E17,'DEMANDA COTA-EXTRA'!#REF!,2020))","v":""},{"$f":"IF(E17=\"\",\"\",SUMIFS('DEMANDA COTA-EXTRA'!R:R,'DEMANDA COTA-EXTRA'!C:C,Consolidação!E17))","v":""}]
[null,{"$f":"IF(D18=\"\",\"\",VLOOKUP(Consolidação!D18,'DEMANDA COTA-EXTRA'!A:C,2,FALSE))","v":""},16,{"$f":"IF(ISERR(SMALL('DEMANDA COTA-EXTRA'!S:S,C18))=TRUE,\"\",SMALL('DEMANDA COTA-EXTRA'!S:S,C18))","v":""},{"$f":"IF(D18=\"\",\"\",VLOOKUP(Consolidação!D18,'DEMANDA COTA-EXTRA'!A:C,3,FALSE))","v":""},{"$f":"IF(E18=\"\",\"\",VLOOKUP(E18,CONTROLES!A:F,3,FALSE))","v":""},{"$f":"IF(E18=\"\",\"\",VLOOKUP(E18,CONTROLES!A:F,4,FALSE))","v":""},{"$f":"IF(E18=\"\",\"\",VLOOKUP(E18,CONTROLES!A:F,5,FALSE))","v":""},{"$f":"IF(E18=\"\",\"\",VLOOKUP(E18,CONTROLES!A:F,6,FALSE))","v":""},{"$f":"IF(E18=\"\",\"\",COUNTIF('DEMANDA COTA-EXTRA'!C:C,Consolidação!E18))","v":""},{"$f":"IF(E18=\"\",\"\",SUMIFS('DEMANDA COTA-EXTRA'!L:L,'DEMANDA COTA-EXTRA'!C:C,Consolidação!E18))","v":""},{"$f":"IF($E18=\"\",\"\",SUMIFS('DEMANDA COTA-EXTRA'!$R:$R,'DEMANDA COTA-EXTRA'!$C:$C,Consolidação!$E18,'DEMANDA COTA-EXTRA'!#REF!,2019))","v":""},{"$f":"IF($E18=\"\",\"\",SUMIFS('DEMANDA COTA-EXTRA'!$R:$R,'DEMANDA COTA-EXTRA'!$C:$C,Consolidação!$E18,'DEMANDA COTA-EXTRA'!#REF!,2020))","v":""},{"$f":"IF(E18=\"\",\"\",SUMIFS('DEMANDA COTA-EXTRA'!R:R,'DEMANDA COTA-EXTRA'!C:C,Consolidação!E18))","v":""}]
[null,{"$f":"IF(D19=\"\",\"\",VLOOKUP(Consolidação!D19,'DEMANDA COTA-EXTRA'!A:C,2,FALSE))","v":""},17,{"$f":"IF(ISERR(SMALL('DEMANDA COTA-EXTRA'!S:S,C19))=TRUE,\"\",SMALL('DEMANDA COTA-EXTRA'!S:S,C19))","v":""},{"$f":"IF(D19=\"\",\"\",VLOOKUP(Consolidação!D19,'DEMANDA COTA-EXTRA'!A:C,3,FALSE))","v":""},{"$f":"IF(E19=\"\",\"\",VLOOKUP(E19,CONTROLES!A:F,3,FALSE))","v":""},{"$f":"IF(E19=\"\",\"\",VLOOKUP(E19,CONTROLES!A:F,4,FALSE))","v":""},{"$f":"IF(E19=\"\",\"\",VLOOKUP(E19,CONTROLES!A:F,5,FALSE))","v":""},{"$f":"IF(E19=\"\",\"\",VLOOKUP(E19,CONTROLES!A:F,6,FALSE))","v":""},{"$f":"IF(E19=\"\",\"\",COUNTIF('DEMANDA COTA-EXTRA'!C:C,Consolidação!E19))","v":""},{"$f":"IF(E19=\"\",\"\",SUMIFS('DEMANDA COTA-EXTRA'!L:L,'DEMANDA COTA-EXTRA'!C:C,Consolidação!E19))","v":""},{"$f":"IF($E19=\"\",\"\",SUMIFS('DEMANDA COTA-EXTRA'!$R:$R,'DEMANDA COTA-EXTRA'!$C:$C,Consolidação!$E19,'DEMANDA COTA-EXTRA'!#REF!,2019))","v":""},{"$f":"IF($E19=\"\",\"\",SUMIFS('DEMANDA COTA-EXTRA'!$R:$R,'DEMANDA COTA-EXTRA'!$C:$C,Consolidação!$E19,'DEMANDA COTA-EXTRA'!#REF!,2020))","v":""},{"$f":"IF(E19=\"\",\"\",SUMIFS('DEMANDA COTA-EXTRA'!R:R,'DEMANDA COTA-EXTRA'!C:C,Consolidação!E19))","v":""}]
[null,{"$f":"IF(D20=\"\",\"\",VLOOKUP(Consolidação!D20,'DEMANDA COTA-EXTRA'!A:C,2,FALSE))","v":""},18,{"$f":"IF(ISERR(SMALL('DEMANDA COTA-EXTRA'!S:S,C20))=TRUE,\"\",SMALL('DEMANDA COTA-EXTRA'!S:S,C20))","v":""},{"$f":"IF(D20=\"\",\"\",VLOOKUP(Consolidação!D20,'DEMANDA COTA-EXTRA'!A:C,3,FALSE))","v":""},{"$f":"IF(E20=\"\",\"\",VLOOKUP(E20,CONTROLES!A:F,3,FALSE))","v":""},{"$f":"IF(E20=\"\",\"\",VLOOKUP(E20,CONTROLES!A:F,4,FALSE))","v":""},{"$f":"IF(E20=\"\",\"\",VLOOKUP(E20,CONTROLES!A:F,5,FALSE))","v":""},{"$f":"IF(E20=\"\",\"\",VLOOKUP(E20,CONTROLES!A:F,6,FALSE))","v":""},{"$f":"IF(E20=\"\",\"\",COUNTIF('DEMANDA COTA-EXTRA'!C:C,Consolidação!E20))","v":""},{"$f":"IF(E20=\"\",\"\",SUMIFS('DEMANDA COTA-EXTRA'!L:L,'DEMANDA COTA-EXTRA'!C:C,Consolidação!E20))","v":""},{"$f":"IF($E20=\"\",\"\",SUMIFS('DEMANDA COTA-EXTRA'!$R:$R,'DEMANDA COTA-EXTRA'!$C:$C,Consolidação!$E20,'DEMANDA COTA-EXTRA'!#REF!,2019))","v":""},{"$f":"IF($E20=\"\",\"\",SUMIFS('DEMANDA COTA-EXTRA'!$R:$R,'DEMANDA COTA-EXTRA'!$C:$C,Consolidação!$E20,'DEMANDA COTA-EXTRA'!#REF!,2020))","v":""},{"$f":"IF(E20=\"\",\"\",SUMIFS('DEMANDA COTA-EXTRA'!R:R,'DEMANDA COTA-EXTRA'!C:C,Consolidação!E20))","v":""}]
[null,{"$f":"IF(D21=\"\",\"\",VLOOKUP(Consolidação!D21,'DEMANDA COTA-EXTRA'!A:C,2,FALSE))","v":""},19,{"$f":"IF(ISERR(SMALL('DEMANDA COTA-EXTRA'!S:S,C21))=TRUE,\"\",SMALL('DEMANDA COTA-EXTRA'!S:S,C21))","v":""},{"$f":"IF(D21=\"\",\"\",VLOOKUP(Consolidação!D21,'DEMANDA COTA-EXTRA'!A:C,3,FALSE))","v":""},{"$f":"IF(E21=\"\",\"\",VLOOKUP(E21,CONTROLES!A:F,3,FALSE))","v":""},{"$f":"IF(E21=\"\",\"\",VLOOKUP(E21,CONTROLES!A:F,4,FALSE))","v":""},{"$f":"IF(E21=\"\",\"\",VLOOKUP(E21,CONTROLES!A:F,5,FALSE))","v":""},{"$f":"IF(E21=\"\",\"\",VLOOKUP(E21,CONTROLES!A:F,6,FALSE))","v":""},{"$f":"IF(E21=\"\",\"\",COUNTIF('DEMANDA COTA-EXTRA'!C:C,Consolidação!E21))","v":""},{"$f":"IF(E21=\"\",\"\",SUMIFS('DEMANDA COTA-EXTRA'!L:L,'DEMANDA COTA-EXTRA'!C:C,Consolidação!E21))","v":""},{"$f":"IF($E21=\"\",\"\",SUMIFS('DEMANDA COTA-EXTRA'!$R:$R,'DEMANDA COTA-EXTRA'!$C:$C,Consolidação!$E21,'DEMANDA COTA-EXTRA'!#REF!,2019))","v":""},{"$f":"IF($E21=\"\",\"\",SUMIFS('DEMANDA COTA-EXTRA'!$R:$R,'DEMANDA COTA-EXTRA'!$C:$C,Consolidação!$E21,'DEMANDA COTA-EXTRA'!#REF!,2020))","v":""},{"$f":"IF(E21=\"\",\"\",SUMIFS('DEMANDA COTA-EXTRA'!R:R,'DEMANDA COTA-EXTRA'!C:C,Consolidação!E21))","v":""}]
[null,{"$f":"IF(D22=\"\",\"\",VLOOKUP(Consolidação!D22,'DEMANDA COTA-EXTRA'!A:C,2,FALSE))","v":""},20,{"$f":"IF(ISERR(SMALL('DEMANDA COTA-EXTRA'!S:S,C22))=TRUE,\"\",SMALL('DEMANDA COTA-EXTRA'!S:S,C22))","v":""},{"$f":"IF(D22=\"\",\"\",VLOOKUP(Consolidação!D22,'DEMANDA COTA-EXTRA'!A:C,3,FALSE))","v":""},{"$f":"IF(E22=\"\",\"\",VLOOKUP(E22,CONTROLES!A:F,3,FALSE))","v":""},{"$f":"IF(E22=\"\",\"\",VLOOKUP(E22,CONTROLES!A:F,4,FALSE))","v":""},{"$f":"IF(E22=\"\",\"\",VLOOKUP(E22,CONTROLES!A:F,5,FALSE))","v":""},{"$f":"IF(E22=\"\",\"\",VLOOKUP(E22,CONTROLES!A:F,6,FALSE))","v":""},{"$f":"IF(E22=\"\",\"\",COUNTIF('DEMANDA COTA-EXTRA'!C:C,Consolidação!E22))","v":""},{"$f":"IF(E22=\"\",\"\",SUMIFS('DEMANDA COTA-EXTRA'!L:L,'DEMANDA COTA-EXTRA'!C:C,Consolidação!E22))","v":""},{"$f":"IF($E22=\"\",\"\",SUMIFS('DEMANDA COTA-EXTRA'!$R:$R,'DEMANDA COTA-EXTRA'!$C:$C,Consolidação!$E22,'DEMANDA COTA-EXTRA'!#REF!,2019))","v":""},{"$f":"IF($E22=\"\",\"\",SUMIFS('DEMANDA COTA-EXTRA'!$R:$R,'DEMANDA COTA-EXTRA'!$C:$C,Consolidação!$E22,'DEMANDA COTA-EXTRA'!#REF!,2020))","v":""},{"$f":"IF(E22=\"\",\"\",SUMIFS('DEMANDA COTA-EXTRA'!R:R,'DEMANDA COTA-EXTRA'!C:C,Consolidação!E22))","v":""}]
[null,{"$f":"IF(D23=\"\",\"\",VLOOKUP(Consolidação!D23,'DEMANDA COTA-EXTRA'!A:C,2,FALSE))","v":""},21,{"$f":"IF(ISERR(SMALL('DEMANDA COTA-EXTRA'!S:S,C23))=TRUE,\"\",SMALL('DEMANDA COTA-EXTRA'!S:S,C23))","v":""},{"$f":"IF(D23=\"\",\"\",VLOOKUP(Consolidação!D23,'DEMANDA COTA-EXTRA'!A:C,3,FALSE))","v":""},{"$f":"IF(E23=\"\",\"\",VLOOKUP(E23,CONTROLES!A:F,3,FALSE))","v":""},{"$f":"IF(E23=\"\",\"\",VLOOKUP(E23,CONTROLES!A:F,4,FALSE))","v":""},{"$f":"IF(E23=\"\",\"\",VLOOKUP(E23,CONTROLES!A:F,5,FALSE))","v":""},{"$f":"IF(E23=\"\",\"\",VLOOKUP(E23,CONTROLES!A:F,6,FALSE))","v":""},{"$f":"IF(E23=\"\",\"\",COUNTIF('DEMANDA COTA-EXTRA'!C:C,Consolidação!E23))","v":""},{"$f":"IF(E23=\"\",\"\",SUMIFS('DEMANDA COTA-EXTRA'!L:L,'DEMANDA COTA-EXTRA'!C:C,Consolidação!E23))","v":""},{"$f":"IF($E23=\"\",\"\",SUMIFS('DEMANDA COTA-EXTRA'!$R:$R,'DEMANDA COTA-EXTRA'!$C:$C,Consolidação!$E23,'DEMANDA COTA-EXTRA'!#REF!,2019))","v":""},{"$f":"IF($E23=\"\",\"\",SUMIFS('DEMANDA COTA-EXTRA'!$R:$R,'DEMANDA COTA-EXTRA'!$C:$C,Consolidação!$E23,'DEMANDA COTA-EXTRA'!#REF!,2020))","v":""},{"$f":"IF(E23=\"\",\"\",SUMIFS('DEMANDA COTA-EXTRA'!R:R,'DEMANDA COTA-EXTRA'!C:C,Consolidação!E23))","v":""}]
[null,{"$f":"IF(D24=\"\",\"\",VLOOKUP(Consolidação!D24,'DEMANDA COTA-EXTRA'!A:C,2,FALSE))","v":""},22,{"$f":"IF(ISERR(SMALL('DEMANDA COTA-EXTRA'!S:S,C24))=TRUE,\"\",SMALL('DEMANDA COTA-EXTRA'!S:S,C24))","v":""},{"$f":"IF(D24=\"\",\"\",VLOOKUP(Consolidação!D24,'DEMANDA COTA-EXTRA'!A:C,3,FALSE))","v":""},{"$f":"IF(E24=\"\",\"\",VLOOKUP(E24,CONTROLES!A:F,3,FALSE))","v":""},{"$f":"IF(E24=\"\",\"\",VLOOKUP(E24,CONTROLES!A:F,4,FALSE))","v":""},{"$f":"IF(E24=\"\",\"\",VLOOKUP(E24,CONTROLES!A:F,5,FALSE))","v":""},{"$f":"IF(E24=\"\",\"\",VLOOKUP(E24,CONTROLES!A:F,6,FALSE))","v":""},{"$f":"IF(E24=\"\",\"\",COUNTIF('DEMANDA COTA-EXTRA'!C:C,Consolidação!E24))","v":""},{"$f":"IF(E24=\"\",\"\",SUMIFS('DEMANDA COTA-EXTRA'!L:L,'DEMANDA COTA-EXTRA'!C:C,Consolidação!E24))","v":""},{"$f":"IF($E24=\"\",\"\",SUMIFS('DEMANDA COTA-EXTRA'!$R:$R,'DEMANDA COTA-EXTRA'!$C:$C,Consolidação!$E24,'DEMANDA COTA-EXTRA'!#REF!,2019))","v":""},{"$f":"IF($E24=\"\",\"\",SUMIFS('DEMANDA COTA-EXTRA'!$R:$R,'DEMANDA COTA-EXTRA'!$C:$C,Consolidação!$E24,'DEMANDA COTA-EXTRA'!#REF!,2020))","v":""},{"$f":"IF(E24=\"\",\"\",SUMIFS('DEMANDA COTA-EXTRA'!R:R,'DEMANDA COTA-EXTRA'!C:C,Consolidação!E24))","v":""}]
[null,{"$f":"IF(D25=\"\",\"\",VLOOKUP(Consolidação!D25,'DEMANDA COTA-EXTRA'!A:C,2,FALSE))","v":""},23,{"$f":"IF(ISERR(SMALL('DEMANDA COTA-EXTRA'!S:S,C25))=TRUE,\"\",SMALL('DEMANDA COTA-EXTRA'!S:S,C25))","v":""},{"$f":"IF(D25=\"\",\"\",VLOOKUP(Consolidação!D25,'DEMANDA COTA-EXTRA'!A:C,3,FALSE))","v":""},{"$f":"IF(E25=\"\",\"\",VLOOKUP(E25,CONTROLES!A:F,3,FALSE))","v":""},{"$f":"IF(E25=\"\",\"\",VLOOKUP(E25,CONTROLES!A:F,4,FALSE))","v":""},{"$f":"IF(E25=\"\",\"\",VLOOKUP(E25,CONTROLES!A:F,5,FALSE))","v":""},{"$f":"IF(E25=\"\",\"\",VLOOKUP(E25,CONTROLES!A:F,6,FALSE))","v":""},{"$f":"IF(E25=\"\",\"\",COUNTIF('DEMANDA COTA-EXTRA'!C:C,Consolidação!E25))","v":""},{"$f":"IF(E25=\"\",\"\",SUMIFS('DEMANDA COTA-EXTRA'!L:L,'DEMANDA COTA-EXTRA'!C:C,Consolidação!E25))","v":""},{"$f":"IF($E25=\"\",\"\",SUMIFS('DEMANDA COTA-EXTRA'!$R:$R,'DEMANDA COTA-EXTRA'!$C:$C,Consolidação!$E25,'DEMANDA COTA-EXTRA'!#REF!,2019))","v":""},{"$f":"IF($E25=\"\",\"\",SUMIFS('DEMANDA COTA-EXTRA'!$R:$R,'DEMANDA COTA-EXTRA'!$C:$C,Consolidação!$E25,'DEMANDA COTA-EXTRA'!#REF!,2020))","v":""},{"$f":"IF(E25=\"\",\"\",SUMIFS('DEMANDA COTA-EXTRA'!R:R,'DEMANDA COTA-EXTRA'!C:C,Consolidação!E25))","v":""}]
[null,{"$f":"IF(D26=\"\",\"\",VLOOKUP(Consolidação!D26,'DEMANDA COTA-EXTRA'!A:C,2,FALSE))","v":""},24,{"$f":"IF(ISERR(SMALL('DEMANDA COTA-EXTRA'!S:S,C26))=TRUE,\"\",SMALL('DEMANDA COTA-EXTRA'!S:S,C26))","v":""},{"$f":"IF(D26=\"\",\"\",VLOOKUP(Consolidação!D26,'DEMANDA COTA-EXTRA'!A:C,3,FALSE))","v":""},{"$f":"IF(E26=\"\",\"\",VLOOKUP(E26,CONTROLES!A:F,3,FALSE))","v":""},{"$f":"IF(E26=\"\",\"\",VLOOKUP(E26,CONTROLES!A:F,4,FALSE))","v":""},{"$f":"IF(E26=\"\",\"\",VLOOKUP(E26,CONTROLES!A:F,5,FALSE))","v":""},{"$f":"IF(E26=\"\",\"\",VLOOKUP(E26,CONTROLES!A:F,6,FALSE))","v":""},{"$f":"IF(E26=\"\",\"\",COUNTIF('DEMANDA COTA-EXTRA'!C:C,Consolidação!E26))","v":""},{"$f":"IF(E26=\"\",\"\",SUMIFS('DEMANDA COTA-EXTRA'!L:L,'DEMANDA COTA-EXTRA'!C:C,Consolidação!E26))","v":""},{"$f":"IF($E26=\"\",\"\",SUMIFS('DEMANDA COTA-EXTRA'!$R:$R,'DEMANDA COTA-EXTRA'!$C:$C,Consolidação!$E26,'DEMANDA COTA-EXTRA'!#REF!,2019))","v":""},{"$f":"IF($E26=\"\",\"\",SUMIFS('DEMANDA COTA-EXTRA'!$R:$R,'DEMANDA COTA-EXTRA'!$C:$C,Consolidação!$E26,'DEMANDA COTA-EXTRA'!#REF!,2020))","v":""},{"$f":"IF(E26=\"\",\"\",SUMIFS('DEMANDA COTA-EXTRA'!R:R,'DEMANDA COTA-EXTRA'!C:C,Consolidação!E26))","v":""}]
[null,{"$f":"IF(D27=\"\",\"\",VLOOKUP(Consolidação!D27,'DEMANDA COTA-EXTRA'!A:C,2,FALSE))","v":""},25,{"$f":"IF(ISERR(SMALL('DEMANDA COTA-EXTRA'!S:S,C27))=TRUE,\"\",SMALL('DEMANDA COTA-EXTRA'!S:S,C27))","v":""},{"$f":"IF(D27=\"\",\"\",VLOOKUP(Consolidação!D27,'DEMANDA COTA-EXTRA'!A:C,3,FALSE))","v":""},{"$f":"IF(E27=\"\",\"\",VLOOKUP(E27,CONTROLES!A:F,3,FALSE))","v":""},{"$f":"IF(E27=\"\",\"\",VLOOKUP(E27,CONTROLES!A:F,4,FALSE))","v":""},{"$f":"IF(E27=\"\",\"\",VLOOKUP(E27,CONTROLES!A:F,5,FALSE))","v":""},{"$f":"IF(E27=\"\",\"\",VLOOKUP(E27,CONTROLES!A:F,6,FALSE))","v":""},{"$f":"IF(E27=\"\",\"\",COUNTIF('DEMANDA COTA-EXTRA'!C:C,Consolidação!E27))","v":""},{"$f":"IF(E27=\"\",\"\",SUMIFS('DEMANDA COTA-EXTRA'!L:L,'DEMANDA COTA-EXTRA'!C:C,Consolidação!E27))","v":""},{"$f":"IF($E27=\"\",\"\",SUMIFS('DEMANDA COTA-EXTRA'!$R:$R,'DEMANDA COTA-EXTRA'!$C:$C,Consolidação!$E27,'DEMANDA COTA-EXTRA'!#REF!,2019))","v":""},{"$f":"IF($E27=\"\",\"\",SUMIFS('DEMANDA COTA-EXTRA'!$R:$R,'DEMANDA COTA-EXTRA'!$C:$C,Consolidação!$E27,'DEMANDA COTA-EXTRA'!#REF!,2020))","v":""},{"$f":"IF(E27=\"\",\"\",SUMIFS('DEMANDA COTA-EXTRA'!R:R,'DEMANDA COTA-EXTRA'!C:C,Consolidação!E27))","v":""}]
[null,{"$f":"IF(D28=\"\",\"\",VLOOKUP(Consolidação!D28,'DEMANDA COTA-EXTRA'!A:C,2,FALSE))","v":""},26,{"$f":"IF(ISERR(SMALL('DEMANDA COTA-EXTRA'!S:S,C28))=TRUE,\"\",SMALL('DEMANDA COTA-EXTRA'!S:S,C28))","v":""},{"$f":"IF(D28=\"\",\"\",VLOOKUP(Consolidação!D28,'DEMANDA COTA-EXTRA'!A:C,3,FALSE))","v":""},{"$f":"IF(E28=\"\",\"\",VLOOKUP(E28,CONTROLES!A:F,3,FALSE))","v":""},{"$f":"IF(E28=\"\",\"\",VLOOKUP(E28,CONTROLES!A:F,4,FALSE))","v":""},{"$f":"IF(E28=\"\",\"\",VLOOKUP(E28,CONTROLES!A:F,5,FALSE))","v":""},{"$f":"IF(E28=\"\",\"\",VLOOKUP(E28,CONTROLES!A:F,6,FALSE))","v":""},{"$f":"IF(E28=\"\",\"\",COUNTIF('DEMANDA COTA-EXTRA'!C:C,Consolidação!E28))","v":""},{"$f":"IF(E28=\"\",\"\",SUMIFS('DEMANDA COTA-EXTRA'!L:L,'DEMANDA COTA-EXTRA'!C:C,Consolidação!E28))","v":""},{"$f":"IF($E28=\"\",\"\",SUMIFS('DEMANDA COTA-EXTRA'!$R:$R,'DEMANDA COTA-EXTRA'!$C:$C,Consolidação!$E28,'DEMANDA COTA-EXTRA'!#REF!,2019))","v":""},{"$f":"IF($E28=\"\",\"\",SUMIFS('DEMANDA COTA-EXTRA'!$R:$R,'DEMANDA COTA-EXTRA'!$C:$C,Consolidação!$E28,'DEMANDA COTA-EXTRA'!#REF!,2020))","v":""},{"$f":"IF(E28=\"\",\"\",SUMIFS('DEMANDA COTA-EXTRA'!R:R,'DEMANDA COTA-EXTRA'!C:C,Consolidação!E28))","v":""}]
[null,{"$f":"IF(D29=\"\",\"\",VLOOKUP(Consolidação!D29,'DEMANDA COTA-EXTRA'!A:C,2,FALSE))","v":""},27,{"$f":"IF(ISERR(SMALL('DEMANDA COTA-EXTRA'!S:S,C29))=TRUE,\"\",SMALL('DEMANDA COTA-EXTRA'!S:S,C29))","v":""},{"$f":"IF(D29=\"\",\"\",VLOOKUP(Consolidação!D29,'DEMANDA COTA-EXTRA'!A:C,3,FALSE))","v":""},{"$f":"IF(E29=\"\",\"\",VLOOKUP(E29,CONTROLES!A:F,3,FALSE))","v":""},{"$f":"IF(E29=\"\",\"\",VLOOKUP(E29,CONTROLES!A:F,4,FALSE))","v":""},{"$f":"IF(E29=\"\",\"\",VLOOKUP(E29,CONTROLES!A:F,5,FALSE))","v":""},{"$f":"IF(E29=\"\",\"\",VLOOKUP(E29,CONTROLES!A:F,6,FALSE))","v":""},{"$f":"IF(E29=\"\",\"\",COUNTIF('DEMANDA COTA-EXTRA'!C:C,Consolidação!E29))","v":""},{"$f":"IF(E29=\"\",\"\",SUMIFS('DEMANDA COTA-EXTRA'!L:L,'DEMANDA COTA-EXTRA'!C:C,Consolidação!E29))","v":""},{"$f":"IF($E29=\"\",\"\",SUMIFS('DEMANDA COTA-EXTRA'!$R:$R,'DEMANDA COTA-EXTRA'!$C:$C,Consolidação!$E29,'DEMANDA COTA-EXTRA'!#REF!,2019))","v":""},{"$f":"IF($E29=\"\",\"\",SUMIFS('DEMANDA COTA-EXTRA'!$R:$R,'DEMANDA COTA-EXTRA'!$C:$C,Consolidação!$E29,'DEMANDA COTA-EXTRA'!#REF!,2020))","v":""},{"$f":"IF(E29=\"\",\"\",SUMIFS('DEMANDA COTA-EXTRA'!R:R,'DEMANDA COTA-EXTRA'!C:C,Consolidação!E29))","v":""}]
[null,{"$f":"IF(D30=\"\",\"\",VLOOKUP(Consolidação!D30,'DEMANDA COTA-EXTRA'!A:C,2,FALSE))","v":""},28,{"$f":"IF(ISERR(SMALL('DEMANDA COTA-EXTRA'!S:S,C30))=TRUE,\"\",SMALL('DEMANDA COTA-EXTRA'!S:S,C30))","v":""},{"$f":"IF(D30=\"\",\"\",VLOOKUP(Consolidação!D30,'DEMANDA COTA-EXTRA'!A:C,3,FALSE))","v":""},{"$f":"IF(E30=\"\",\"\",VLOOKUP(E30,CONTROLES!A:F,3,FALSE))","v":""},{"$f":"IF(E30=\"\",\"\",VLOOKUP(E30,CONTROLES!A:F,4,FALSE))","v":""},{"$f":"IF(E30=\"\",\"\",VLOOKUP(E30,CONTROLES!A:F,5,FALSE))","v":""},{"$f":"IF(E30=\"\",\"\",VLOOKUP(E30,CONTROLES!A:F,6,FALSE))","v":""},{"$f":"IF(E30=\"\",\"\",COUNTIF('DEMANDA COTA-EXTRA'!C:C,Consolidação!E30))","v":""},{"$f":"IF(E30=\"\",\"\",SUMIFS('DEMANDA COTA-EXTRA'!L:L,'DEMANDA COTA-EXTRA'!C:C,Consolidação!E30))","v":""},{"$f":"IF($E30=\"\",\"\",SUMIFS('DEMANDA COTA-EXTRA'!$R:$R,'DEMANDA COTA-EXTRA'!$C:$C,Consolidação!$E30,'DEMANDA COTA-EXTRA'!#REF!,2019))","v":""},{"$f":"IF($E30=\"\",\"\",SUMIFS('DEMANDA COTA-EXTRA'!$R:$R,'DEMANDA COTA-EXTRA'!$C:$C,Consolidação!$E30,'DEMANDA COTA-EXTRA'!#REF!,2020))","v":""},{"$f":"IF(E30=\"\",\"\",SUMIFS('DEMANDA COTA-EXTRA'!R:R,'DEMANDA COTA-EXTRA'!C:C,Consolidação!E30))","v":""}]
[null,{"$f":"IF(D31=\"\",\"\",VLOOKUP(Consolidação!D31,'DEMANDA COTA-EXTRA'!A:C,2,FALSE))","v":""},29,{"$f":"IF(ISERR(SMALL('DEMANDA COTA-EXTRA'!S:S,C31))=TRUE,\"\",SMALL('DEMANDA COTA-EXTRA'!S:S,C31))","v":""},{"$f":"IF(D31=\"\",\"\",VLOOKUP(Consolidação!D31,'DEMANDA COTA-EXTRA'!A:C,3,FALSE))","v":""},{"$f":"IF(E31=\"\",\"\",VLOOKUP(E31,CONTROLES!A:F,3,FALSE))","v":""},{"$f":"IF(E31=\"\",\"\",VLOOKUP(E31,CONTROLES!A:F,4,FALSE))","v":""},{"$f":"IF(E31=\"\",\"\",VLOOKUP(E31,CONTROLES!A:F,5,FALSE))","v":""},{"$f":"IF(E31=\"\",\"\",VLOOKUP(E31,CONTROLES!A:F,6,FALSE))","v":""},{"$f":"IF(E31=\"\",\"\",COUNTIF('DEMANDA COTA-EXTRA'!C:C,Consolidação!E31))","v":""},{"$f":"IF(E31=\"\",\"\",SUMIFS('DEMANDA COTA-EXTRA'!L:L,'DEMANDA COTA-EXTRA'!C:C,Consolidação!E31))","v":""},{"$f":"IF($E31=\"\",\"\",SUMIFS('DEMANDA COTA-EXTRA'!$R:$R,'DEMANDA COTA-EXTRA'!$C:$C,Consolidação!$E31,'DEMANDA COTA-EXTRA'!#REF!,2019))","v":""},{"$f":"IF($E31=\"\",\"\",SUMIFS('DEMANDA COTA-EXTRA'!$R:$R,'DEMANDA COTA-EXTRA'!$C:$C,Consolidação!$E31,'DEMANDA COTA-EXTRA'!#REF!,2020))","v":""},{"$f":"IF(E31=\"\",\"\",SUMIFS('DEMANDA COTA-EXTRA'!R:R,'DEMANDA COTA-EXTRA'!C:C,Consolidação!E31))","v":""}]
[null,{"$f":"IF(D32=\"\",\"\",VLOOKUP(Consolidação!D32,'DEMANDA COTA-EXTRA'!A:C,2,FALSE))","v":""},30,{"$f":"IF(ISERR(SMALL('DEMANDA COTA-EXTRA'!S:S,C32))=TRUE,\"\",SMALL('DEMANDA COTA-EXTRA'!S:S,C32))","v":""},{"$f":"IF(D32=\"\",\"\",VLOOKUP(Consolidação!D32,'DEMANDA COTA-EXTRA'!A:C,3,FALSE))","v":""},{"$f":"IF(E32=\"\",\"\",VLOOKUP(E32,CONTROLES!A:F,3,FALSE))","v":""},{"$f":"IF(E32=\"\",\"\",VLOOKUP(E32,CONTROLES!A:F,4,FALSE))","v":""},{"$f":"IF(E32=\"\",\"\",VLOOKUP(E32,CONTROLES!A:F,5,FALSE))","v":""},{"$f":"IF(E32=\"\",\"\",VLOOKUP(E32,CONTROLES!A:F,6,FALSE))","v":""},{"$f":"IF(E32=\"\",\"\",COUNTIF('DEMANDA COTA-EXTRA'!C:C,Consolidação!E32))","v":""},{"$f":"IF(E32=\"\",\"\",SUMIFS('DEMANDA COTA-EXTRA'!L:L,'DEMANDA COTA-EXTRA'!C:C,Consolidação!E32))","v":""},{"$f":"IF($E32=\"\",\"\",SUMIFS('DEMANDA COTA-EXTRA'!$R:$R,'DEMANDA COTA-EXTRA'!$C:$C,Consolidação!$E32,'DEMANDA COTA-EXTRA'!#REF!,2019))","v":""},{"$f":"IF($E32=\"\",\"\",SUMIFS('DEMANDA COTA-EXTRA'!$R:$R,'DEMANDA COTA-EXTRA'!$C:$C,Consolidação!$E32,'DEMANDA COTA-EXTRA'!#REF!,2020))","v":""},{"$f":"IF(E32=\"\",\"\",SUMIFS('DEMANDA COTA-EXTRA'!R:R,'DEMANDA COTA-EXTRA'!C:C,Consolidação!E32))","v":""}]
[]
[]
[]
[]
[]
[]
[]
[]
[]
[]
[]
[]
[]
[]
[]
[]
[]
[]
[]
[]
[]
[]
[]
[]
[]
[]
[]
[]
[]
[]
[]
[]
[]
[]
[]
[]
[]
[]
[]
[]
[]
[]
[]
[]
[]
[]
[]
[]
[]
[]
[]
[]
[]
[]
[]
[]
[]
[]
[]
[]
[]
[]
[]
[]
[]
[]
[]
[]
[]
[]
[]
[]
[]
[]
[]
[]
[]
[]
[]
[]
[]
[]
[]
[]
[]
[]
[]
[]
[]
[]
[]
[]
[]
[]
[]
[]
[]
[]
[]
[]
[]
[]
[]
[]
[]
[]
[]
[]
[]
[]
[]
[]
[]
[]
[]
[]
[]
[]
[]
[]
[]
[]
[]
[]
[]
[]
[]
[]
[]
[]
[]
[]
[]
[]
[]
[]
[]
[]
[]
[]
[]
[]
[]
[]
[]
[]
[]
[]
[]
[]
[]
[]
[]
[]
[]
[]
[]
[]
[]
[]
[]
[]
[]
[]
[]
[]
[]
[]
[]
[]
[]
[]
[]
[]
[]
[]
[]
[]
[]
[]
[]
[]
[]
[]
[]
[]
[]
[]
[]
[]
[]
[]
[]
[]
[]
[]
[]
[]
[]
[]
[]
[]
[]
[]
[]
[]
[]
[]
[]
[]
[]
[]
[]
[]
[]
[]
[]
[]
[]
[]
[]
[]
[]
[]
[]
[]
[]
[]
[]
[]
[]
[]
[]
[]
[]
[]
[]
[]
[]
[]
[]
[]
[]
[]
[]
[]
[]
[]
[]
[]
[]
[]
[]
[]
[]
[]
[]
[]
[]
[]
[]
[]
[]
[]
[]
[]
[]
[]
[]
[]
[]
[]
[]
[]
[]
[]
[]
[]
[]
[]
[]
[]
[]
[]
[]
[]
[]
[]
[]
[]
[]
[]
[]
[]
[]
[]
[]
[]
[]
[]
[]
[]
[]
[]
[]
[]
[]
[]
[]
[]
[]
[]
[]
[]
[]
[]
[]
[]
[]
[]
[]
[]
[]
[]
[]
[]
[]
[]
[]
[]
[]
[]
[]
[]
[]
[]
[]
[]
[]
[]
[]
[]
[]
[]
[]
[]
[]
[]
[]
[]
[]
[]
[]
[]
[]
[]
[]
[]
[]
[]
[]
[]
[]
[]
[]
[]
[]
[]
[]
[]
[]
[]
[]
[]
[]
[]
[]
[]
[]
[]
[]
[]
[]
[]
[]
[]
[]
[]
[]
[]
[]
[]
[]
[]
[]
[]
[]
[]
[]
[]
[]
[]
[]
[]
[]
[]
[]
[]
[]
[]
[]
[]
[]
[]
[]
[]
[]
[]
[]
[]
[]
[]
[]
[]
[]
[]
[]
[]
[]
[]
[]
[]
[]
[]
[]
[]
[]
[]
[]
[]
[]
[]
[]
[]
[]
[]
[]
[]
[]
[]
[]
[]
[]
[]
[]
[]
[]
[]
[]
[]
[]
[]
[]
[]
[]
[]
[]
[]
[]
[]
[]
[]
[]
[]
[]
[]
[]
[]
[]
[]
[]
[]
[]
[]
[]
[]
[]
[]
[]
[]
[]
[]
[]
[]
[]
[]
[]
[]
[]
[]
[]
[]
[]
[]
[]
[]
[]
[]
[]
[]
[]
[]
[]
[]
[]
[]
[]
[]
[]
[]
[]
[]
[]
[]
[]
[]
[]
[]
[]
[]
[]
[]
[]
[]
[]
[]
[]
[]
[]
[]
[]
[]
[]
[]
[]
[]
[]
[]
[]
[]
[]
[]
[]
[]
[]
[]
[]
[]
[]
[]
[]
[]
[]
[]
[]
[]
[]
[]
[]
[]
[]
[]
[]
[]
[]
[]
[]
[]
[]
[]
[]
[]
[]
[]
[]
[]
[]
[]
[]
[]
[]
[]
[]
[]
[]
[]
[]
[]
[]
[]
[]
[]
[]
[]
[]
[]
[]
[]
[]
[]
[]
[]
[]
[]
[]
[]
[]
[]
[]
[]
[]
[]
[]
[]
[]
[]
[]
[]
[]
[]
[]
[]
[]
[]
[]
[]
[]
[]
[]
[]
[]
[]
[]
[]
[]
[]
[]
[]
[]
[]
[]
[]
[]
[]
[]
[]
[]
[]
[]
[]
[]
[]
[]
[]
[]
[]
[]
[]
[]
[]
[]
[]
[]
[]
[]
[]
[]
[]
[]
[]
[]
[]
[]
[]
[]
[]
[]
[]
[]
[]
[]
[]
[]
[]
[]
[]
[]
[]
[]
[]
[]
[]
[]
[]
[]
[]
[]
[]
[]
[]
[]
[]
[]
[]
[]
[]
[]
[]
[]
[]
[]
[]
[]
[]
[]
[]
[]
[]
[]
[]
[]
[]
[]
[]
[]
[]
[]
[]
[]
[]
[]
[]
[]
[]
[]
[]
[]
[]
[]
[]
[]
[]
[]
[]
[]
[]
[]
[]
[]
[]
[]
[]
[]
[]
[]
[]
[]
[]
[]
[]
[]
[]
[]
[]
[]
[]
[]
[]
[]
[]
[]
[]
[]
[]
[]
[]
[]
[]
[]
[]
[]
[]
[]
[]
[]
[]
[]
[]
[]
[]
[]
[]
[]
[]
[]
[]
[]
[]
[]
[]
[]
[]
[]
[]
[]
[]
[]
[]
[]
[]
[]
[]
[]
[]
[]
[]
[]
[]
[]
[]
[]
[]
[]
[]
[]
[]
[]
[]
[]
[]
[]
[]
[]
[]
[]
[]
[]
[]
[]
[]
[]
[]
[]
[]
[]
[]
[]
[]
[]
[]
[]
[]
[]
[]
[]
[]
[]
[]
[]
[]
[]
[]
[]
[]
[]
[]
[]
[]
[]
[]
[]
[]
[]
[]
[]
[]
[]
[]
[]
[]
[]
[]
[]
[]
[]
[]
[]
[]
[]
[]
[]
[]
[]
[]
[]
[]
[]
[]
[]
[]
[]
[]
[]
[]
[]
[]
[]
[]
[]
[]
[]
[]
[]
[]
[]
[]
[]
[]
[]
[]
[]
[]
[]
[]
[]
[]
[]
[]
[]
[]
[]
[]
[]
[]
[]
[]
[]
[]
[]
[]
[]
[]
[]
[]
[]
[]
[]
[]
[]
[]
[]
[]
[]
[]
[]
[]
[]
[]
[]
[]
[]
[]
[]
[]
[]
[]
[]
[]
[]
[]
[]
[]
[]
[]
[]
[]
[]
[]
[]
[]
[]
[]
[]
[]
[]
[]
[]
[]
[]
[]
[]
[]
[]
[]
[]
[]
[]
[]
[]
[]
[]
[]
[]
[]
[]
[]
[]
[]
[]
[]
[]
[]
[]
[]
[]
[]
[]
[]
[]
[]
[]
[]
[]
[]
[]
[]
[]
[]
[]
[]
[]
[]
[]
[]
[]
[]
[]
[]
[]
[]
[]
[]
[]
[]
[]
[]
[]
[]
[]
[]
[]
[]
[]
[]
[]
[]
[]
[]
[]
[]
[]
[]
[]
[]
[]
[]
[]
[]
[]
[]
[]
[]
[]
[]
[]
[]
[]
[]
[]
[]
[]
[]
[]
[]
[]
[]
[]
[]
[]
[]
[]
[]
[]
[]
[]
[]
[]
[]
[]
[]
[]
[]
[]
[]
[]
[]
[]
[]
[]
[]
[]
[]
[]
[]
[]
[]
[]
[]
[]
[]
[]
[]
[]
[]
[]
[]
[]
[]
[]
[]
[]
[]
[]
[]
[]
[]
[]
[]
[]
[]
[]
[]
[]
[]
[]
[]
[]
[]
[]
[]
[]
[]
[]
[]
[]
[]
[]
[]
[]
[]
[]
[]
[]
[]
[]
[]
[]
[]
[]
[]
[]
[]
[]
[]
[]
[]
[]
[]
[]
[]
[]
[]
[]
[]
[]
[]
[]
[]
[]
[]
[]
[]
[]
[]
[]
[]
[]
[]
[]
[]
[]
[]
[]
[]
[]
[]
[]
[]
[]
[]
[]
[]
[]
[]
[]
[]
[]
[]
[]
[]
[]
[]
[]
[]
[]
[]
[]
[]
[]
[]
[]
[]
[]
[]
[]
[]
[]
[]
[]
[]
[]
[]
[]
[]
[]
[]
[]
[]
[]
[]
[]
[]
[]
[]
[]
[]
[]
[]
[]
[]
[]
[]
[]
[]
[]
[]
[]
[]
[]
[]
[]
[]
[]
[]
[]
[]
[]
[]
[]
[]
[]
[]
[]
[]
[]
[]
[]
[]
[]
[]
[]
[]
[]
[]
[]
[]
[]
[]
[]
[]
[]
[]
[]
[]
[]
[]
[]
[]
[]
[]
[]
[]
[]
[]
[]
[]
[]
[]
[]
[]
[]
[]
[]
[]
[]
[]
[]
[]
[]
[]
[]
[]
[]
[]
[]
[]
[]
[]
[]
[]
[]
[]
[]
[]
[]
[]
[]
[]
[]
[]
[]
[]
[]
[]
[]
[]
[]
[]
[]
[]
[]
[]
[]
[]
[]
[]
[]
[]
[]
[]
[]
[]
[]
[]
[]
[]
[]
[]
[]
[]
[]
[]
[]
[]
[]
[]
[]
[]
[]
[]
[]
[]
[]
[]
[]
[]
[]
[]
[]
[]
[]
[]
[]
[]
[]
[]
[]
[]
[]
[]
[]
[]
[]
[]
[]
[]
[]
[]
[]
[]
[]
[]
[]
[]
[]
[]
[]
[]
[]
[]
[]
[]
[]
[]
[]
[]
[]
[]
[]
[]
[]
[]
[]
[]
[]
[]
[]
[]
[]
[]
[]
[]
[]
[]
[]
[]
[]
[]
[]
[]
[]
[]
[]
[]
[]
[]
[]
[]
[]
[]
[]
[]
[]
[]
[]
[]
[]
[]
[]
[]
[]
[]
[]
[]
[]
[]
[]
[]
[]
[]
[]
[]
[]
[]
[]
[]
[]
[]
[]
[]
[]
[]
[]
[]
[]
[]
[]
[]
[]
[]
[]
[]
[]
[]
[]
[]
[]
[]
[]
[]
[]
[]
[]
[]
[]
[]
[]
[]
[]
[]
[]
[]
[]
[]
[]
[]
[]
[]
[]
[]
[]
[]
[]
[]
[]
[]
[]
[]
[]
[]
[]
[]
[]
[]
[]
[]
[]
[]
[]
[]
[]
[]
[]
[]
[]
[]
[]
[]
[]
[]
[]
[]
[]
[]
[]
[]
[]
[]
[]
[]
[]
[]
[]
[]
[]
[]
[]
[]
[]
[]
[]
[]
[]
[]
[]
[]
[]
[]
[]
[]
[]
[]
[]
[]
[]
[]
[]
[]
[]
[]
[]
[]
[]
[]
[]
[]
[]
[]
[]
[]
[]
[]
[]
[]
[]
[]
[]
[]
[]
[]
[]
[]
[]
[]
[]
[]
[]
[]
[]
[]
[]
[]
[]
[]
[]
[]
[]
[]
[]
[]
[]
[]
[]
[]
[]
[]
[]
[]
[]
[]
[]
[]
[]
[]
[]
[]
[]
[]
[]
[]
[]
[]
[]
[]
[]
[]
[]
[]
[]
[]
[]
[]
[]
[]
[]
[]
[]
[]
[]
[]
[]
[]
[]
[]
[]
[]
[]
[]
[]
[]
[]
[]
[]
[]
[]
[]
[]
[]
[]
[]
[]
[]
[]
[]
[]
[]
[]
[]
[]
[]
[]
[]
[]
[]
[]
[]
[]
[]
[]
[]
[]
[]
[]
[]
[]
[]
[]
[]
[]
[]
[]
[]
[]
[]
[]
[]
[]
[]
[]
[]
[]
[]
[]
[]
[]
[]
[]
[]
[]
[]
[]
[]
[]
[]
[]
[]
[]
[]
[]
[]
[]
[]
[]
[]
[]
[]
[]
[]
[]
[]
[]
[]
[]
[]
[]
[]
[]
[]
[]
[]
[]
[]
[]
[]
[]
[]
[]
[]
[]
[]
[]
[]
[]
[]
[]
[]
[]
[]
[]
[]
[]
[]
[]
[]
[]
[]
[]
[]
[]
[]
[]
[]
[]
[]
[]
[]
[]
[]
[]
[]
[]
[]
[]
[]
[]
[]
[]
[]
[]
[]
[]
[]
[]
[]
[]
[]
[]
[]
[]
[]
[]
[]
[]
[]
[]
[]
[]
[]
[]
[]
[]
[]
[]
[]
[]
[]
[]
[]
[]
[]
[]
[]
[]
[]
[]
[]
[]
[]
[]
[]
[]
[]
[]
[]
[]
[]
[]
[]
[]
[]
[]
[]
[]
[]
[]
[]
[]
[]
[]
[]
[]
[]
[]
[]
[]
[]
[]
[]
[]
[]
[]
[]
[]
[]
[]
[]
[]
[]
[]
[]
[]
[]
[]
[]
[]
[]
[]
[]
[]
[]
[]
[]
[]
[]
[]
[]
[]
[]
[]
[]
[]
[]
[]
[]
[]
[]
[]
[]
[]
[]
[]
[]
[]
[]
[]
[]
[]
[]
[]
[]
[]
[]
[]
[]
[]
[]
[]
[]
[]
[]
[]
[]
[]
[]
[]
[]
[]
[]
[]
[]
[]
[]
[]
[]
[]
[]
[]
[]
[]
[]
[]
[]
[]
[]
[]
[]
[]
[]
[]
[]
[]
[]
[]
[]
[]
[]
[]
[]
[]
[]
[]
[]
[]
[]
[]
[]
[]
[]
[]
[]
[]
[]
[]
[]
[]
[]
[]
[]
[]
[]
[]
[]
[]
[]
[]
[]
[]
[]
[]
[]
[]
[]
[]
[]
[]
[]
[]
[]
[]
[]
[]
[]
[]
[]
[]
[]
[]
[]
[]
[]
[]
[]
[]
[]
[]
[]
[]
[]
[]
[]
[]
[]
[]
[]
[]
[]
[]
[]
[]
[]
[]
[]
[]
[]
[]
[]
[]
[]
[]
[]
[]
[]
[]
[]
[]
[]
[]
[]
[]
[]
[]
[]
[]
[]
[]
[]
[]
[]
[]
[]
[]
[]
[]
[]
[]
[]
[]
[]
[]
[]
[]
[]
[]
[]
[]
[]
[]
[]
[]
[]
[]
[]
[]
[]
[]
[]
[]
[]
[]
[]
[]
[]
[]
[]
[]
[]
[]
[]
[]
[]
[]
[]
[]
[]
[]
[]
[]
[]
[]
[]
[]
[]
[]
[]
[]
[]
[]
[]
[]
[]
[]
[]
[]
[]
[]
[]
[]
[]
[]
[]
[]
[]
[]
[]
[]
[]
[]
[]
[]
[]
[]
[]
[]
[]
[]
[]
[]
[]
[]
[]
[]
[]
[]
[]
[]
[]
[]
[]
[]
[]
[]
[]
[]
[]
[]
[]
[]
[]
[]
[]
[]
[]
[]
[]
[]
[]
[]
[]
[]
[]
[]
[]
[]
[]
[]
[]
[]
[]
[]
[]
[]
[]
[]
[]
[]
[]
[]
[]
[]
[]
[]
[]
[]
[]
[]
[]
[]
[]
[]
[]
[]
[]
[]
[]
[]
[]
[]
[]
[]
[]
[]
[]
[]
[]
[]
[]
[]
[]
[]
[]
[]
[]
[]
[]
[]
[]
[]
[]
[]
[]
[]
[]
[]
[]
[]
[]
[]
[]
[]
[]
[]
[]
[]
[]
[]
[]
[]
[]
[]
[]
[]
[]
[]
[]
[]
[]
[]
[]
[]
[]
[]
[]
[]
[]
[]
[]
[]
[]
[]
[]
[]
[]
[]
[]
[]
[]
[]
[]
[]
[]
[]
[]
[]
[]
[]
[]
[]
[]
[]
[]
[]
[]
[]
[]
[]
[]
[]
[]
[]
[]
[]
[]
[]
[]
[]
[]
[]
[]
[]
[]
[]
[]
[]
[]
[]
[]
[]
[]
[]
[]
[]
[]
[]
[]
[]
[]
[]
[]
[]
[]
[]
[]
[]
[]
[]
[]
[]
[]
[]
[]
[]
[]
[]
[]
[]
[]
[]
[]
[]
[]
[]
[]
[]
[]
[]
[]
[]
[]
[]
[]
[]
[]
[]
[]
[]
[]
[]
[]
[]
[]
[]
[]
[]
[]
[]
[]
[]
[]
[]
[]
[]
[]
[]
[]
[]
[]
[]
[]
[]
[]
[]
[]
[]
[]
[]
[]
[]
[]
[]
[]
[]
[]
[]
[]
[]
[]
[]
[]
[]
[]
[]
[]
[]
[]
[]
[]
[]
[]
[]
[]
[]
[]
[]
[]
[]
[]
[]
[]
[]
[]
[]
[]
[]
[]
[]
[]
[]
[]
[]
[]
[]
[]
[]
[]
[]
[]
[]
[]
[]
[]
[]
[]
[]
[]
[]
[]
[]
[]
[]
[]
[]
[]
[]
[]
[]
[]
[]
[]
[]
[]
[]
[]
[]
[]
[]
[]
[]
[]
[]
[]
[]
[]
[]
[]
[]
[]
[]
[]
[]
[]
[]
[]
[]
[]
[]
[]
[]
[]
[]
[]
[]
[]
[]
[]
[]
[]
[]
[]
[]
[]
[]
[]
[]
[]
[]
[]
[]
[]
[]
[]
[]
[]
[]
[]
[]
[]
[]
[]
[]
[]
[]
[]
[]
[]
[]
[]
[]
[]
[]
[]
[]
[]
[]
[]
[]
[]
[]
[]
[]
[]
[]
[]
[]
[]
[]
[]
[]
[]
[]
[]
[]
[]
[]
[]
[]
[]
[]
[]
[]
[]
[]
[]
[]
[]
[]
[]
[]
[]
[]
[]
[]
[]
[]
[]
[]
[]
[]
[]
[]
[]
[]
[]
[]
[]
[]
[]
[]
[]
[]
[]
[]
[]
[]
[]
[]
[]
[]
[]
[]
[]
[]
[]
[]
[]
[]
[]
[]
[]
[]
[]
[]
[]
[]
[]
[]
[]
[]
[]
[]
[]
[]
[]
[]
[]
[]
[]
[]
[]
[]
[]
[]
[]
[]
[]
[]
[]
[]
[]
[]
[]
[]
[]
[]
[]
[]
[]
[]
[]
[]
[]
[]
[]
[]
[]
[]
[]
[]
[]
[]
[]
[]
[]
[]
[]
[]
[]
[]
[]
[]
[]
[]
[]
[]
[]
[]
[]
[]
[]
[]
[]
[]
[]
[]
[]
[]
[]
[]
[]
[]
[]
[]
[]
[]
[]
[]
[]
[]
[]
[]
[]
[]
[]
[]
[]
[]
[]
[]
[]
[]
[]
[]
[]
[]
[]
[]
[]
[]
[]
[]
[]
[]
[]
[]
[]
[]
[]
[]
[]
[]
[]
[]
[]
[]
[]
[]
[]
[]
[]
[]
[]
[]
[]
[]
[]
[]
[]
[]
[]
[]
[]
[]
[]
[]
[]
[]
[]
[]
[]
[]
[]
[]
[]
[]
[]
[]
[]
[]
[]
[]
[]
[]
[]
[]
[]
[]
[]
[]
[]
[]
[]
[]
[]
[]
[]
[]
[]
[]
[]
[]
[]
[]
[]
[]
[]
[]
[]
[]
[]
[]
[]
[]
[]
[]
[]
[]
[]
[]
[]
[]
[]
[]
[]
[]
[]
[]
[]
[]
[]
[]
[]
[]
[]
[]
[]
[]
[]
[]
[]
[]
[]
[]
[]
[]
[]
[]
[]
[]
[]
[]
[]
[]
[]
[]
[]
[]
[]
[]
[]
[]
[]
[]
[]
[]
[]
[]
[]
[]
[]
[]
[]
[]
[]
[]
[]
[]
[]
[]
[]
[]
[]
[]
[]
[]
[]
[]
[]
[]
[]
[]
[]
[]
[]
[]
[]
[]
[]
[]
[]
[]
[]
[]
[]
[]
[]
[]
[]
[]
[]
[]
[]
[]
[]
[]
[]
[]
[]
[]
[]
[]
[]
[]
[]
[]
[]
[]
[]
[]
[]
[]
[]
[]
[]
[]
[]
[]
[]
[]
[]
[]
[]
[]
[]
[]
[]
[]
[]
[]
[]
[]
[]
[]
[]
[]
[]
[]
[]
[]
[]
[]
[]
[]
[]
[]
[]
[]
[]
[]
[]
[]
[]
[]
[]
[]
[]
[]
[]
[]
[]
[]
[]
[]
[]
[]
[]
[]
[]
[]
[]
[]
[]
[]
[]
[]
[]
[]
[]
[]
[]
[]
[]
[]
[]
[]
[]
[]
[]
[]
[]
[]
[]
[]
[]
[]
[]
[]
[]
[]
[]
[]
[]
[]
[]
[]
[]
[]
[]
[]
[]
[]
[]
[]
[]
[]
[]
[]
[]
[]
[]
[]
[]
[]
[]
[]
[]
[]
[]
[]
[]
[]
[]
[]
[]
[]
[]
[]
[]
[]
[]
[]
[]
[]
[]
[]
[]
[]
[]
[]
[]
[]
[]
[]
[]
[]
[]
[]
[]
[]
[]
[]
[]
[]
[]
[]
[]
[]
[]
[]
[]
[]
[]
[]
[]
[]
[]
[]
[]
[]
[]
[]
[]
[]
[]
[]
[]
[]
[]
[]
[]
[]
[]
[]
[]
[]
[]
[]
[]
[]
[]
[]
[]
[]
[]
[]
[]
[]
[]
[]
[]
[]
[]
[]
[]
[]
[]
[]
[]
[]
[]
[]
[]
[]
[]
[]
[]
[]
[]
[]
[]
[]
[]
[]
[]
[]
[]
[]
[]
[]
[]
[]
[]
[]
[]
[]
[]
[]
[]
[]
[]
[]
[]
[]
[]
[]
[]
[]
[]
[]
[]
[]
[]
[]
[]
[]
[]
[]
[]
[]
[]
[]
[]
[]
[]
[]
[]
[]
[]
[]
[]
[]
[]
[]
[]
[]
[]
[]
[]
[]
[]
[]
[]
[]
[]
[]
[]
[]
[]
[]
[]
[]
[]
[]
[]
[]
[]
[]
[]
[]
[]
[]
[]
[]
[]
[]
[]
[]
[]
[]
[]
[]
[]
[]
[]
[]
[]
[]
[]
[]
[]
[]
[]
[]
[]
[]
[]
[]
[]
[]
[]
[]
[]
[]
[]
[]
[]
[]
[]
[]
[]
[]
[]
[]
[]
[]
[]
[]
[]
[]
[]
[]
[]
[]
[]
[]
[]
[]
[]
[]
[]
[]
[]
[]
[]
[]
[]
[]
[]
[]
[]
[]
[]
[]
[]
[]
[]
[]
[]
[]
[]
[]
[]
[]
[]
[]
[]
[]
[]
[]
[]
[]
[]
[]
[]
[]
[]
[]
[]
[]
[]
[]
[]
[]
[]
[]
[]
[]
[]
[]
[]
[]
[]
[]
[]
[]
[]
[]
[]
[]
[]
[]
[]
[]
[]
[]
[]
[]
[]
[]
[]
[]
[]
[]
[]
[]
[]
[]
[]
[]
[]
[]
[]
[]
[]
[]
[]
[]
[]
[]
[]
[]
[]
[]
[]
[]
[]
[]
[]
[]
[]
[]
[]
[]
[]
[]
[]
[]
[]
[]
[]
[]
[]
[]
[]
[]
[]
[]
[]
[]
[]
[]
[]
[]
[]
[]
[]
[]
[]
[]
[]
[]
[]
[]
[]
[]
[]
[]
[]
[]
[]
[]
[]
[]
[]
[]
[]
[]
[]
[]
[]
[]
[]
[]
[]
[]
[]
[]
[]
[]
[]
[]
[]
[]
[]
[]
[]
[]
[]
[]
[]
[]
[]
[]
[]
[]
[]
[]
[]
[]
[]
[]
[]
[]
[]
[]
[]
[]
[]
[]
[]
[]
[]
[]
[]
[]
[]
[]
[]
[]
[]
[]
[]
[]
[]
[]
[]
[]
[]
[]
[]
[]
[]
[]
[]
[]
[]
[]
[]
[]
[]
[]
[]
[]
[]
[]
[]
[]
[]
[]
[]
[]
[]
[]
[]
[]
[]
[]
[]
[]
[]
[]
[]
[]
[]
[]
[]
[]
[]
[]
[]
[]
[]
[]
[]
[]
[]
[]
[]
[]
[]
[]
[]
[]
[]
[]
[]
[]
[]
[]
[]
[]
[]
[]
[]
[]
[]
[]
[]
[]
[]
[]
[]
[]
[]
[]
[]
[]
[]
[]
[]
[]
[]
[]
[]
[]
[]
[]
[]
[]
[]
[]
[]
[]
[]
[]
[]
[]
[]
[]
[]
[]
[]
[]
[]
[]
[]
[]
[]
[]
[]
[]
[]
[]
[]
[]
[]
[]
[]
[]
[]
[]
[]
[]
[]
[]
[]
[]
[]
[]
[]
[]
[]
[]
[]
[]
[]
[]
[]
[]
[]
[]
[]
[]
[]
[]
[]
[]
[]
[]
[]
[]
[]
[]
[]
[]
[]
[]
[]
[]
[]
[]
[]
[]
[]
[]
[]
[]
[]
[]
[]
[]
[]
[]
[]
[]
[]
[]
[]
[]
[]
[]
[]
[]
[]
[]
[]
[]
[]
[]
[]
[]
[]
[]
[]
[]
[]
[]
[]
[]
[]
[]
[]
[]
[]
[]
[]
[]
[]
[]
[]
[]
[]
[]
[]
[]
[]
[]
[]
[]
[]
[]
[]
[]
[]
[]
[]
[]
[]
[]
[]
[]
[]
[]
[]
[]
[]
[]
[]
[]
[]
[]
[]
[]
[]
[]
[]
[]
[]
[]
[]
[]
[]
[]
[]
[]
[]
[]
[]
[]
[]
[]
[]
[]
[]
[]
[]
[]
[]
[]
[]
[]
[]
[]
[]
[]
[]
[]
[]
[]
[]
[]
[]
[]
[]
[]
[]
[]
[]
[]
[]
[]
[]
[]
[]
[]
[]
[]
[]
[]
[]
[]
[]
[]
[]
[]
[]
[]
[]
[]
[]
[]
[]
[]
[]
[]
[]
[]
[]
[]
[]
[]
[]
[]
[]
[]
[]
[]
[]
[]
[]
[]
[]
[]
[]
[]
[]
[]
[]
[]
[]
[]
[]
[]
[]
[]
[]
[]
[]
[]
[]
[]
[]
[]
[]
[]
[]
[]
[]
[]
[]
[]
[]
[]
[]
[]
[]
[]
[]
[]
[]
[]
[]
[]
[]
[]
[]
[]
[]
[]
[]
[]
[]
[]
[]
[]
[]
[]
[]
[]
[]
[]
[]
[]
[]
[]
[]
[]
[]
[]
[]
[]
[]
[]
[]
[]
[]
[]
[]
[]
[]
[]
[]
[]
[]
[]
[]
[]
[]
[]
[]
[]
[]
[]
[]
[]
[]
[]
[]
[]
[]
[]
[]
[]
[]
[]
[]
[]
[]
[]
[]
[]
[]
[]
[]
[]
[]
[]
[]
[]
[]
[]
[]
[]
[]
[]
[]
[]
[]
[]
[]
[]
[]
[]
[]
[]
[]
[]
[]
[]
[]
[]
[]
[]
[]
[]
[]
[]
[]
[]
[]
[]
[]
[]
[]
[]
[]
[]
[]
[]
[]
[]
[]
[]
[]
[]
[]
[]
[]
[]
[]
[]
[]
[]
[]
[]
[]
[]
[]
[]
[]
[]
[]
[]
[]
[]
[]
[]
[]
[]
[]
[]
[]
[]
[]
[]
[]
[]
[]
[]
[]
[]
[]
[]
[]
[]
[]
[]
[]
[]
[]
[]
[]
[]
[]
[]
[]
[]
[]
[]
[]
[]
[]
[]
[]
[]
[]
[]
[]
[]
[]
[]
[]
[]
[]
[]
[]
[]
[]
[]
[]
[]
[]
[]
[]
[]
[]
[]
[]
[]
[]
[]
[]
[]
[]
[]
[]
[]
[]
[]
[]
[]
[]
[]
[]
[]
[]
[]
[]
[]
[]
[]
[]
[]
[]
[]
[]
[]
[]
[]
[]
[]
[]
[]
[]
[]
[]
[]
[]
[]
[]
[]
[]
[]
[]
[]
[]
[]
[]
[]
[]
[]
[]
[]
[]
[]
[]
[]
[]
[]
[]
[]
[]
[]
[]
[]
[]
[]
[]
[]
[]
[]
[]
[]
[]
[]
[]
[]
[]
[]
[]
[]
[]
[]
[]
[]
[]
[]
[]
[]
[]
[]
[]
[]
[]
[]
[]
[]
[]
[]
[]
[]
[]
[]
[]
[]
[]
[]
[]
[]
[]
[]
[]
[]
[]
[]
[]
[]
[]
[]
[]
[]
[]
[]
[]
[]
[]
[]
[]
[]
[]
[]
[]
[]
[]
[]
[]
[]
[]
[]
[]
[]
[]
[]
[]
[]
[]
[]
[]
[]
[]
[]
[]
[]
[]
[]
[]
[]
[]
[]
[]
[]
[]
[]
[]
[]
[]
[]
[]
[]
[]
[]
[]
[]
[]
[]
[]
[]
[]
[]
[]
[]
[]
[]
[]
[]
[]
[]
[]
[]
[]
[]
[]
[]
[]
[]
[]
[]
[]
[]
[]
[]
[]
[]
[]
[]
[]
[]
[]
[]
[]
[]
[]
[]
[]
[]
[]
[]
[]
[]
[]
[]
[]
[]
[]
[]
[]
[]
[]
[]
[]
[]
[]
[]
[]
[]
[]
[]
[]
[]
[]
[]
[]
[]
[]
[]
[]
[]
[]
[]
[]
[]
[]
[]
[]
[]
[]
[]
[]
[]
[]
[]
[]
[]
[]
[]
[]
[]
[]
[]
[]
[]
[]
[]
[]
[]
[]
[]
[]
[]
[]
[]
[]
[]
[]
[]
[]
[]
[]
[]
[]
[]
[]
[]
[]
[]
[]
[]
[]
[]
[]
[]
[]
[]
[]
[]
[]
[]
[]
[]
[]
[]
[]
[]
[]
[]
[]
[]
[]
[]
[{"$f":"1+1","v":2}]

{"sheet":"GERAL PDSE SR2","index":3,"n_rows":1048574,"n_cols":13,"rows_kept":4500,"cut":true,"hidden":true,"merged":[[2,10,2,11],[4,10,4,11],[7,10,7,11],[0,0,0,5],[0,7,0,12],[1,10,1,11],[3,10,3,11],[5,10,5,11],[6,10,6,11]],"bounds":{"rows_first":2000,"rows_last":500,"rows_between":2000,"halvings":0}}
["BOLSAS POR TEMA NA SR-2 APROVADOS PELA CAPES.",null,null,null,null,null,null,"MISSÕES POR TEMA NA SR-2"]
["TEMAS","Ano","Modalidades","QT","DURAÇÃO/ MESES","Valor Total",null,"TEMAS","Ano","QT","DURAÇÃO",null,"Valor Total"]
["1 - Cultura e Teoria Social: Focalizando Direito, Trabalho e Subjetividade",2019,"Doutorado Sanduíche ",1,12,76276.800000000003,null,"6 - Políticas Públicas e Teoria Social",2018,1,"7 a 20 dias",null,19786]
["2 - Educação no Mundo Contemporâneo",2019,"Doutorado Sanduíche ",1,12,76276.800000000003,null,"2 - Educação no Mundo Contemporâneo",2019,2,"7 a 20 dias",null,38836]
["3 - Saúde: Controle de Doenças e Ações pela Qualidade de Vida",2019,"Doutorado Sanduíche ",1,12,76276.800000000003,null,"7 - Meio Ambiente: Formação, Análise de Impacto Ambiental e Novas Tecnologias em Busca da Sustentabilidade e Questões Sócio-Ambientais",2019,2,"7 a 20 dias",null,39571]
["6 - Políticas Públicas e Teoria Social",2019,"Doutorado Sanduíche ",1,12,76276.800000000003,null,"3 - Saúde: Controle de Doenças e Ações pela Qualidade de Vida",2020,2,"7 a 20 dias",null,38836]
["1 - Cultura e Teoria Social: Focalizando Direito, Trabalho e Subjetividade",2020,"Doutorado Sanduíche ",1,12,76276.800000000003,null,"3 - Saúde: Controle de Doenças e Ações pela Qualidade de Vida",2021,1,"7 a 20 dias",null,19785]
["2 - Educação no Mundo Contemporâneo",2020,"Doutorado Sanduíche ",1,12,76276.800000000003,null,"7 - Meio Ambiente: Formação, Análise de Impacto Ambiental e Novas Tecnologias em Busca da Sustentabilidade e Questões Sócio-Ambientais",2022,1,"7 a 20 dias",null,17258]
["3 - Saúde: Controle de Doenças e Ações pela Qualidade de Vida",2020,"Doutorado Sanduíche ",1,12,76276.800000000003]
["5 - Ciências Exatas e Engenharias: Teoria, Experimentação, Modelagem Computacional e Aplicações",2020,"Doutorado Sanduíche ",1,6,40478.400000000001]
["6 - Políticas Públicas e Teoria Social",2020,"Doutorado Sanduíche ",1,12,76276.800000000003]
["6 - Políticas Públicas e Teoria Social",2020,"Doutorado Sanduíche ",1,6,40478.400000000001]
["1 - Cultura e Teoria Social: Focalizando Direito, Trabalho e Subjetividade",2021,"Doutorado Sanduíche ",1,12,76276.800000000003]
["2 - Educação no Mundo Contemporâneo",2021,"Doutorado Sanduíche ",2,12,152553.60000000001]
["3 - Saúde: Controle de Doenças e Ações pela Qualidade de Vida",2021,"Doutorado Sanduíche ",1,12,76276.800000000003]
["4 - Teoria política, história e redes de poder",2021,"Doutorado Sanduíche ",1,12,76276.800000000003]
["5 - Ciências Exatas e Engenharias: Teoria, Experimentação, Modelagem Computacional e Aplicações",2021,"Doutorado Sanduíche ",1,6,40478.400000000001]
["6 - Políticas Públicas e Teoria Social",2021,"Doutorado Sanduíche ",1,12,76276.800000000003]
["6 - Políticas Públicas e Teoria Social",2022,"Doutorado Sanduíche ",1,6,40478.400000000001]
[]
[]
[]
[]
[]
[]
[]
[]
[]
[]
[]
[]
[]
[]
[]
[]
[]
[]
[]
[]
[]
[]
[]
[]
[]
[]
[]
[]
[]
[]
[]
[]
[]
[]
[]
[]
[]
[]
[]
[]
[]
[]
[]
[]
[]
[]
[]
[]
[]
[]
[]
[]
[]
[]
[]
[]
[]
[]
[]
[]
[]
[]
[]
[]
[]
[]
[]
[]
[]
[]
[]
[]
[]
[]
[]
[]
[]
[]
[]
[]
[]
[]
[]
[]
[]
[]
[]
[]
[]
[]
[]
[]
[]
[]
[]
[]
[]
[]
[]
[]
[]
[]
[]
[]
[]
[]
[]
[]
[]
[]
[]
[]
[]
[]
[]
[]
[]
[]
[]
[]
[]
[]
[]
[]
[]
[]
[]
[]
[]
[]
[]
[]
[]
[]
[]
[]
[]
[]
[]
[]
[]
[]
[]
[]
[]
[]
[]
[]
[]
[]
[]
[]
[]
[]
[]
[]
[]
[]
[]
[]
[]
[]
[]
[]
[]
[]
[]
[]
[]
[]
[]
[]
[]
[]
[]
[]
[]
[]
[]
[]
[]
[]
[]
[]
[]
[]
[]
[]
[]
[]
[]
[]
[]
[]
[]
[]
[]
[]
[]
[]
[]
[]
[]
[]
[]
[]
[]
[]
[]
[]
[]
[]
[]
[]
[]
[]
[]
[]
[]
[]
[]
[]
[]
[]
[]
[]
[]
[]
[]
[]
[]
[]
[]
[]
[]
[]
[]
[]
[]
[]
[]
[]
[]
[]
[]
[]
[]
[]
[]
[]
[]
[]
[]
[]
[]
[]
[]
[]
[]
[]
[]
[]
[]
[]
[]
[]
[]
[]
[]
[]
[]
[]
[]
[]
[]
[]
[]
[]
[]
[]
[]
[]
[]
[]
[]
[]
[]
[]
[]
[]
[]
[]
[]
[]
[]
[]
[]
[]
[]
[]
[]
[]
[]
[]
[]
[]
[]
[]
[]
[]
[]
[]
[]
[]
[]
[]
[]
[]
[]
[]
[]
[]
[]
[]
[]
[]
[]
[]
[]
[]
[]
[]
[]
[]
[]
[]
[]
[]
[]
[]
[]
[]
[]
[]
[]
[]
[]
[]
[]
[]
[]
[]
[]
[]
[]
[]
[]
[]
[]
[]
[]
[]
[]
[]
[]
[]
[]
[]
[]
[]
[]
[]
[]
[]
[]
[]
[]
[]
[]
[]
[]
[]
[]
[]
[]
[]
[]
[]
[]
[]
[]
[]
[]
[]
[]
[]
[]
[]
[]
[]
[]
[]
[]
[]
[]
[]
[]
[]
[]
[]
[]
[]
[]
[]
[]
[]
[]
[]
[]
[]
[]
[]
[]
[]
[]
[]
[]
[]
[]
[]
[]
[]
[]
[]
[]
[]
[]
[]
[]
[]
[]
[]
[]
[]
[]
[]
[]
[]
[]
[]
[]
[]
[]
[]
[]
[]
[]
[]
[]
[]
[]
[]
[]
[]
[]
[]
[]
[]
[]
[]
[]
[]
[]
[]
[]
[]
[]
[]
[]
[]
[]
[]
[]
[]
[]
[]
[]
[]
[]
[]
[]
[]
[]
[]
[]
[]
[]
[]
[]
[]
[]
[]
[]
[]
[]
[]
[]
[]
[]
[]
[]
[]
[]
[]
[]
[]
[]
[]
[]
[]
[]
[]
[]
[]
[]
[]
[]
[]
[]
[]
[]
[]
[]
[]
[]
[]
[]
[]
[]
[]
[]
[]
[]
[]
[]
[]
[]
[]
[]
[]
[]
[]
[]
[]
[]
[]
[]
[]
[]
[]
[]
[]
[]
[]
[]
[]
[]
[]
[]
[]
[]
[]
[]
[]
[]
[]
[]
[]
[]
[]
[]
[]
[]
[]
[]
[]
[]
[]
[]
[]
[]
[]
[]
[]
[]
[]
[]
[]
[]
[]
[]
[]
[]
[]
[]
[]
[]
[]
[]
[]
[]
[]
[]
[]
[]
[]
[]
[]
[]
[]
[]
[]
[]
[]
[]
[]
[]
[]
[]
[]
[]
[]
[]
[]
[]
[]
[]
[]
[]
[]
[]
[]
[]
[]
[]
[]
[]
[]
[]
[]
[]
[]
[]
[]
[]
[]
[]
[]
[]
[]
[]
[]
[]
[]
[]
[]
[]
[]
[]
[]
[]
[]
[]
[]
[]
[]
[]
[]
[]
[]
[]
[]
[]
[]
[]
[]
[]
[]
[]
[]
[]
[]
[]
[]
[]
[]
[]
[]
[]
[]
[]
[]
[]
[]
[]
[]
[]
[]
[]
[]
[]
[]
[]
[]
[]
[]
[]
[]
[]
[]
[]
[]
[]
[]
[]
[]
[]
[]
[]
[]
[]
[]
[]
[]
[]
[]
[]
[]
[]
[]
[]
[]
[]
[]
[]
[]
[]
[]
[]
[]
[]
[]
[]
[]
[]
[]
[]
[]
[]
[]
[]
[]
[]
[]
[]
[]
[]
[]
[]
[]
[]
[]
[]
[]
[]
[]
[]
[]
[]
[]
[]
[]
[]
[]
[]
[]
[]
[]
[]
[]
[]
[]
[]
[]
[]
[]
[]
[]
[]
[]
[]
[]
[]
[]
[]
[]
[]
[]
[]
[]
[]
[]
[]
[]
[]
[]
[]
[]
[]
[]
[]
[]
[]
[]
[]
[]
[]
[]
[]
[]
[]
[]
[]
[]
[]
[]
[]
[]
[]
[]
[]
[]
[]
[]
[]
[]
[]
[]
[]
[]
[]
[]
[]
[]
[]
[]
[]
[]
[]
[]
[]
[]
[]
[]
[]
[]
[]
[]
[]
[]
[]
[]
[]
[]
[]
[]
[]
[]
[]
[]
[]
[]
[]
[]
[]
[]
[]
[]
[]
[]
[]
[]
[]
[]
[]
[]
[]
[]
[]
[]
[]
[]
[]
[]
[]
[]
[]
[]
[]
[]
[]
[]
[]
[]
[]
[]
[]
[]
[]
[]
[]
[]
[]
[]
[]
[]
[]
[]
[]
[]
[]
[]
[]
[]
[]
[]
[]
[]
[]
[]
[]
[]
[]
[]
[]
[]
[]
[]
[]
[]
[]
[]
[]
[]
[]
[]
[]
[]
[]
[]
[]
[]
[]
[]
[]
[]
[]
[]
[]
[]
[]
[]
[]
[]
[]
[]
[]
[]
[]
[]
[]
[]
[]
[]
[]
[]
[]
[]
[]
[]
[]
[]
[]
[]
[]
[]
[]
[]
[]
[]
[]
[]
[]
[]
[]
[]
[]
[]
[]
[]
[]
[]
[]
[]
[]
[]
[]
[]
[]
[]
[]
[]
[]
[]
[]
[]
[]
[]
[]
[]
[]
[]
[]
[]
[]
[]
[]
[]
[]
[]
[]
[]
[]
[]
[]
[]
[]
[]
[]
[]
[]
[]
[]
[]
[]
[]
[]
[]
[]
[]
[]
[]
[]
[]
[]
[]
[]
[]
[]
[]
[]
[]
[]
[]
[]
[]
[]
[]
[]
[]
[]
[]
[]
[]
[]
[]
[]
[]
[]
[]
[]
[]
[]
[]
[]
[]
[]
[]
[]
[]
[]
[]
[]
[]
[]
[]
[]
[]
[]
[]
[]
[]
[]
[]
[]
[]
[]
[]
[]
[]
[]
[]
[]
[]
[]
[]
[]
[]
[]
[]
[]
[]
[]
[]
[]
[]
[]
[]
[]
[]
[]
[]
[]
[]
[]
[]
[]
[]
[]
[]
[]
[]
[]
[]
[]
[]
[]
[]
[]
[]
[]
[]
[]
[]
[]
[]
[]
[]
[]
[]
[]
[]
[]
[]
[]
[]
[]
[]
[]
[]
[]
[]
[]
[]
[]
[]
[]
[]
[]
[]
[]
[]
[]
[]
[]
[]
[]
[]
[]
[]
[]
[]
[]
[]
[]
[]
[]
[]
[]
[]
[]
[]
[]
[]
[]
[]
[]
[]
[]
[]
[]
[]
[]
[]
[]
[]
[]
[]
[]
[]
[]
[]
[]
[]
[]
[]
[]
[]
[]
[]
[]
[]
[]
[]
[]
[]
[]
[]
[]
[]
[]
[]
[]
[]
[]
[]
[]
[]
[]
[]
[]
[]
[]
[]
[]
[]
[]
[]
[]
[]
[]
[]
[]
[]
[]
[]
[]
[]
[]
[]
[]
[]
[]
[]
[]
[]
[]
[]
[]
[]
[]
[]
[]
[]
[]
[]
[]
[]
[]
[]
[]
[]
[]
[]
[]
[]
[]
[]
[]
[]
[]
[]
[]
[]
[]
[]
[]
[]
[]
[]
[]
[]
[]
[]
[]
[]
[]
[]
[]
[]
[]
[]
[]
[]
[]
[]
[]
[]
[]
[]
[]
[]
[]
[]
[]
[]
[]
[]
[]
[]
[]
[]
[]
[]
[]
[]
[]
[]
[]
[]
[]
[]
[]
[]
[]
[]
[]
[]
[]
[]
[]
[]
[]
[]
[]
[]
[]
[]
[]
[]
[]
[]
[]
[]
[]
[]
[]
[]
[]
[]
[]
[]
[]
[]
[]
[]
[]
[]
[]
[]
[]
[]
[]
[]
[]
[]
[]
[]
[]
[]
[]
[]
[]
[]
[]
[]
[]
[]
[]
[]
[]
[]
[]
[]
[]
[]
[]
[]
[]
[]
[]
[]
[]
[]
[]
[]
[]
[]
[]
[]
[]
[]
[]
[]
[]
[]
[]
[]
[]
[]
[]
[]
[]
[]
[]
[]
[]
[]
[]
[]
[]
[]
[]
[]
[]
[]
[]
[]
[]
[]
[]
[]
[]
[]
[]
[]
[]
[]
[]
[]
[]
[]
[]
[]
[]
[]
[]
[]
[]
[]
[]
[]
[]
[]
[]
[]
[]
[]
[]
[]
[]
[]
[]
[]
[]
[]
[]
[]
[]
[]
[]
[]
[]
[]
[]
[]
[]
[]
[]
[]
[]
[]
[]
[]
[]
[]
[]
[]
[]
[]
[]
[]
[]
[]
[]
[]
[]
[]
[]
[]
[]
[]
[]
[]
[]
[]
[]
[]
[]
[]
[]
[]
[]
[]
[]
[]
[]
[]
[]
[]
[]
[]
[]
[]
[]
[]
[]
[]
[]
[]
[]
[]
[]
[]
[]
[]
[]
[]
[]
[]
[]
[]
[]
[]
[]
[]
[]
[]
[]
[]
[]
[]
[]
[]
[]
[]
[]
[]
[]
[]
[]
[]
[]
[]
[]
[]
[]
[]
[]
[]
[]
[]
[]
[]
[]
[]
[]
[]
[]
[]
[]
[]
[]
[]
[]
[]
[]
[]
[]
[]
[]
[]
[]
[]
[]
[]
[]
[]
[]
[]
[]
[]
[]
[]
[]
[]
[]
[]
[]
[]
[]
[]
[]
[]
[]
[]
[]
[]
[]
[]
[]
[]
[]
[]
[]
[]
[]
[]
[]
[]
[]
[]
[]
[]
[]
[]
[]
[]
[]
[]
[]
[]
[]
[]
[]
[]
[]
[]
[]
[]
[]
[]
[]
[]
[]
[]
[]
[]
[]
[]
[]
[]
[]
[]
[]
[]
[]
[]
[]
[]
[]
[]
[]
[]
[]
[]
[]
[]
[]
[]
[]
[]
[]
[]
[]
[]
[]
[]
[]
[]
[]
[]
[]
[]
[]
[]
[]
[]
[]
[]
[]
[]
[]
[]
[]
[]
[]
[]
[]
[]
[]
[]
[]
[]
[]
[]
[]
[]
[]
[]
[]
[]
[]
[]
[]
[]
[]
[]
[]
[]
[]
[]
[]
[]
[]
[]
[]
[]
[]
[]
[]
[]
[]
[]
[]
[]
[]
[]
[]
[]
[]
[]
[]
[]
[]
[]
[]
[]
[]
[]
[]
[]
[]
[]
[]
[]
[]
[]
[]
[]
[]
[]
[]
[]
[]
[]
[]
[]
[]
[]
[]
[]
[]
[]
[]
[]
[]
[]
[]
[]
[]
[]
[]
[]
[]
[]
[]
[]
[]
[]
[]
[]
[]
[]
[]
[]
[]
[]
[]
[]
[]
[]
[]
[]
[]
[]
[]
[]
[]
[]
[]
[]
[]
[]
[]
[]
[]
[]
[]
[]
[]
[]
[]
[]
[]
[]
[]
[]
[]
[]
[]
[]
[]
[]
[]
[]
[]
[]
[]
[]
[]
[]
[]
[]
[]
[]
[]
[]
[]
[]
[]
[]
[]
[]
[]
[]
[]
[]
[]
[]
[]
[]
[]
[]
[]
[]
[]
[]
[]
[]
[]
[]
[]
[]
[]
[]
[]
[]
[]
[]
[]
[]
[]
[]
[]
[]
[]
[]
[]
[]
[]
[]
[]
[]
[]
[]
[]
[]
[]
[]
[]
[]
[]
[]
[]
[]
[]
[]
[]
[]
[]
[]
[]
[]
[]
[]
[]
[]
[]
[]
[]
[]
[]
[]
[]
[]
[]
[]
[]
[]
[]
[]
[]
[]
[]
[]
[]
[]
[]
[]
[]
[]
[]
[]
[]
[]
[]
[]
[]
[]
[]
[]
[]
[]
[]
[]
[]
[]
[]
[]
[]
[]
[]
[]
[]
[]
[]
[]
[]
[]
[]
[]
[]
[]
[]
[]
[]
[]
[]
[]
[]
[]
[]
[]
[]
[]
[]
[]
[]
[]
[]
[]
[]
[]
[]
[]
[]
[]
[]
[]
[]
[]
[]
[]
[]
[]
[]
[]
[]
[]
[]
[]
[]
[]
[]
[]
[]
[]
[]
[]
[]
[]
[]
[]
[]
[]
[]
[]
[]
[]
[]
[]
[]
[]
[]
[]
[]
[]
[]
[]
[]
[]
[]
[]
[]
[]
[]
[]
[]
[]
[]
[]
[]
[]
[]
[]
[]
[]
[]
[]
[]
[]
[]
[]
[]
[]
[]
[]
[]
[]
[]
[]
[]
[]
[]
[]
[]
[]
[]
[]
[]
[]
[]
[]
[]
[]
[]
[]
[]
[]
[]
[]
[]
[]
[]
[]
[]
[]
[]
[]
[]
[]
[]
[]
[]
[]
[]
[]
[]
[]
[]
[]
[]
[]
[]
[]
[]
[]
[]
[]
[]
[]
[]
[]
[]
[]
[]
[]
[]
[]
[]
[]
[]
[]
[]
[]
[]
[]
[]
[]
[]
[]
[]
[]
[]
[]
[]
[]
[]
[]
[]
[]
[]
[]
[]
[]
[]
[]
[]
[]
[]
[]
[]
[]
[]
[]
[]
[]
[]
[]
[]
[]
[]
[]
[]
[]
[]
[]
[]
[]
[]
[]
[]
[]
[]
[]
[]
[]
[]
[]
[]
[]
[]
[]
[]
[]
[]
[]
[]
[]
[]
[]
[]
[]
[]
[]
[]
[]
[]
[]
[]
[]
[]
[]
[]
[]
[]
[]
[]
[]
[]
[]
[]
[]
[]
[]
[]
[]
[]
[]
[]
[]
[]
[]
[]
[]
[]
[]
[]
[]
[]
[]
[]
[]
[]
[]
[]
[]
[]
[]
[]
[]
[]
[]
[]
[]
[]
[]
[]
[]
[]
[]
[]
[]
[]
[]
[]
[]
[]
[]
[]
[]
[]
[]
[]
[]
[]
[]
[]
[]
[]
[]
[]
[]
[]
[]
[]
[]
[]
[]
[]
[]
[]
[]
[]
[]
[]
[]
[]
[]
[]
[]
[]
[]
[]
[]
[]
[]
[]
[]
[]
[]
[]
[]
[]
[]
[]
[]
[]
[]
[]
[]
[]
[]
[]
[]
[]
[]
[]
[]
[]
[]
[]
[]
[]
[]
[]
[]
[]
[]
[]
[]
[]
[]
[]
[]
[]
[]
[]
[]
[]
[]
[]
[]
[]
[]
[]
[]
[]
[]
[]
[]
[]
[]
[]
[]
[]
[]
[]
[]
[]
[]
[]
[]
[]
[]
[]
[]
[]
[]
[]
[]
[]
[]
[]
[]
[]
[]
[]
[]
[]
[]
[]
[]
[]
[]
[]
[]
[]
[]
[]
[]
[]
[]
[]
[]
[]
[]
[]
[]
[]
[]
[]
[]
[]
[]
[]
[]
[]
[]
[]
[]
[]
[]
[]
[]
[]
[]
[]
[]
[]
[]
[]
[]
[]
[]
[]
[]
[]
[]
[]
[]
[]
[]
[]
[]
[]
[]
[]
[]
[]
[]
[]
[]
[]
[]
[]
[]
[]
[]
[]
[]
[]
[]
[]
[]
[]
[]
[]
[]
[]
[]
[]
[]
[]
[]
[]
[]
[]
[]
[]
[]
[]
[]
[]
[]
[]
[]
[]
[]
[]
[]
[]
[]
[]
[]
[]
[]
[]
[]
[]
[]
[]
[]
[]
[]
[]
[]
[]
[]
[]
[]
[]
[]
[]
[]
[]
[]
[]
[]
[]
[]
[]
[]
[]
[]
[]
[]
[]
[]
[]
[]
[]
[]
[]
[]
[]
[]
[]
[]
[]
[]
[]
[]
[]
[]
[]
[]
[]
[]
[]
[]
[]
[]
[]
[]
[]
[]
[]
[]
[]
[]
[]
[]
[]
[]
[]
[]
[]
[]
[]
[]
[]
[]
[]
[]
[]
[]
[]
[]
[]
[]
[]
[]
[]
[]
[]
[]
[]
[]
[]
[]
[]
[]
[]
[]
[]
[]
[]
[]
[]
[]
[]
[]
[]
[]
[]
[]
[]
[]
[]
[]
[]
[]
[]
[]
[]
[]
[]
[]
[]
[]
[]
[]
[]
[]
[]
[]
[]
[]
[]
[]
[]
[]
[]
[]
[]
[]
[]
[]
[]
[]
[]
[]
[]
[]
[]
[]
[]
[]
[]
[]
[]
[]
[]
[]
[]
[]
[]
[]
[]
[]
[]
[]
[]
[]
[]
[]
[]
[]
[]
[]
[]
[]
[]
[]
[]
[]
[]
[]
[]
[]
[]
[]
[]
[]
[]
[]
[]
[]
[]
[]
[]
[]
[]
[]
[]
[]
[]
[]
[]
[]
[]
[]
[]
[]
[]
[]
[]
[]
[]
[]
[]
[]
[]
[]
[]
[]
[]
[]
[]
[]
[]
[]
[]
[]
[]
[]
[]
[]
[]
[]
[]
[]
[]
[]
[]
[]
[]
[]
[]
[]
[]
[]
[]
[]
[]
[]
[]
[]
[]
[]
[]
[]
[]
[]
[]
[]
[]
[]
[]
[]
[]
[]
[]
[]
[]
[]
[]
[]
[]
[]
[]
[]
[]
[]
[]
[]
[]
[]
[]
[]
[]
[]
[]
[]
[]
[]
[]
[]
[]
[]
[]
[]
[]
[]
[]
[]
[]
[]
[]
[]
[]
[]
[]
[]
[]
[]
[]
[]
[]
[]
[]
[]
[]
[]
[]
[]
[]
[]
[]
[]
[]
[]
[]
[]
[]
[]
[]
[]
[]
[]
[]
[]
[]
[]
[]
[]
[]
[]
[]
[]
[]
[]
[]
[]
[]
[]
[]
[]
[]
[]
[]
[]
[]
[]
[]
[]
[]
[]
[]
[]
[]
[]
[]
[]
[]
[]
[]
[]
[]
[]
[]
[]
[]
[]
[]
[]
[]
[]
[]
[]
[]
[]
[]
[]
[]
[]
[]
[]
[]
[]
[]
[]
[]
[]
[]
[]
[]
[]
[]
[]
[]
[]
[]
[]
[]
[]
[]
[]
[]
[]
[]
[]
[]
[]
[]
[]
[]
[]
[]
[]
[]
[]
[]
[]
[]
[]
[]
[]
[]
[]
[]
[]
[]
[]
[]
[]
[]
[]
[]
[]
[]
[]
[]
[]
[]
[]
[]
[]
[]
[]
[]
[]
[]
[]
[]
[]
[]
[]
[]
[]
[]
[]
[]
[]
[]
[]
[]
[]
[]
[]
[]
[]
[]
[]
[]
[]
[]
[]
[]
[]
[]
[]
[]
[]
[]
[]
[]
[]
[]
[]
[]
[]
[]
[]
[]
[]
[]
[]
[]
[]
[]
[]
[]
[]
[]
[]
[]
[]
[]
[]
[]
[]
[]
[]
[]
[]
[]
[]
[]
[]
[]
[]
[]
[]
[]
[]
[]
[]
[]
[]
[]
[]
[]
[]
[]
[]
[]
[]
[]
[]
[]
[]
[]
[]
[]
[]
[]
[]
[]
[]
[]
[]
[]
[]
[]
[]
[]
[]
[]
[]
[]
[]
[]
[]
[]
[]
[]
[]
[]
[]
[]
[]
[]
[]
[]
[]
[]
[]
[]
[]
[]
[]
[]
[]
[]
[]
[]
[]
[]
[]
[]
[]
[]
[]
[]
[]
[]
[]
[]
[]
[]
[]
[]
[]
[]
[]
[]
[]
[]
[]
[]
[]
[]
[]
[]
[]
[]
[]
[]
[]
[]
[]
[]
[]
[]
[]
[]
[]
[]
[]
[]
[]
[]
[]
[]
[]
[]
[]
[]
[]
[]
[]
[]
[]
[]
[]
[]
[]
[]
[]
[]
[]
[]
[]
[]
[]
[]
[]
[]
[]
[]
[]
[]
[]
[]
[]
[]
[]
[]
[]
[]
[]
[]
[]
[]
[]
[]
[]
[]
[]
[]
[]
[]
[]
[]
[]
[]
[]
[]
[]
[]
[]
[]
[]
[]
[]
[]
[]
[]
[]
[]
[]
[]
[]
[]
[]
[]
[]
[]
[]
[]
[]
[]
[]
[]
[]
[]
[]
[]
[]
[]
[]
[]
[]
[]
[]
[]
[]
[]
[]
[]
[]
[]
[]
[]
[]
[]
[]
[]
[]
[]
[]
[]
[]
[]
[]
[]
[]
[]
[]
[]
[]
[]
[]
[]
[]
[]
[]
[]
[]
[]
[]
[]
[]
[]
[]
[]
[]
[]
[]
[]
[]
[]
[]
[]
[]
[]
[]
[]
[]
[]
[]
[]
[]
[]
[]
[]
[]
[]
[]
[]
[]
[]
[]
[]
[]
[]
[]
[]
[]
[]
[]
[]
[]
[]
[]
[]
[]
[]
[]
[]
[]
[]
[]
[]
[]
[]
[]
[]
[]
[]
[]
[]
[]
[]
[]
[]
[]
[]
[]
[]
[]
[]
[]
[]
[]
[]
[]
[]
[]
[]
[]
[]
[]
[]
[]
[]
[]
[]
[]
[]
[]
[]
[]
[]
[]
[]
[]
[]
[]
[]
[]
[]
[]
[]
[]
[]
[]
[]
[]
[]
[]
[]
[]
[]
[]
[]
[]
[]
[]
[]
[]
[]
[]
[]
[]
[]
[]
[]
[]
[]
[]
[]
[]
[]
[]
[]
[]
[]
[]
[]
[]
[]
[]
[]
[]
[]
[]
[]
[]
[]
[]
[]
[]
[]
[]
[]
[]
[]
[]
[]
[]
[]
[]
[]
[]
[]
[]
[]
[]
[]
[]
[]
[]
[]
[]
[]
[]
[]
[]
[]
[]
[]
[]
[]
[]
[]
[]
[]
[]
[]
[]
[]
[]
[]
[]
[]
[]
[]
[]
[]
[]
[]
[]
[]
[]
[]
[]
[]
[]
[]
[]
[]
[]
[]
[]
[]
[]
[]
[]
[]
[]
[]
[]
[]
[]
[]
[]
[]
[]
[]
[]
[]
[]
[]
[]
[]
[]
[]
[]
[]
[]
[]
[]
[]
[]
[]
[]
[]
[]
[]
[]
[]
[]
[]
[]
[]
[]
[]
[]
[]
[]
[]
[]
[]
[]
[]
[]
[]
[]
[]
[]
[]
[]
[]
[]
[]
[]
[]
[]
[]
[]
[]
[]
[]
[]
[]
[]
[]
[]
[]
[]
[]
[]
[]
[]
[]
[]
[]
[]
[]
[]
[]
[]
[]
[]
[]
[]
[]
[]
[]
[]
[]
[]
[]
[]
[]
[]
[]
[]
[]
[]
[]
[]
[]
[]
[]
[]
[]
[]
[]
[]
[]
[]
[]
[]
[]
[]
[]
[]
[]
[]
[]
[]
[]
[]
[]
[]
[]
[]
[]
[]
[]
[]
[]
[]
[]
[]
[]
[]
[]
[]
[]
[]
[]
[]
[]
[]
[]
[]
[]
[]
[]
[]
[]
[]
[]
[]
[]
[]
[]
[]
[]
[]
[]
[]
[]
[]
[]
[]
[]
[]
[]
[]
[]
[]
[]
[]
[]
[]
[]
[]
[]
[]
[]
[]
[]
[]
[]
[]
[]
[]
[]
[]
[]
[]
[]
[]
[]
[]
[]
[]
[]
[]
[]
[]
[]
[]
[]
[]
[]
[]
[]
[]
[]
[]
[]
[]
[]
[]
[]
[]
[]
[]
[]
[]
[]
[]
[]
[]
[]
[]
[]
[]
[]
[]
[]
[]
[]
[]
[]
[]
[]
[]
[]
[]
[]
[]
[]
[]
[]
[]
[]
[]
[]
[]
[]
[]
[]
[]
[]
[]
[]
[]
[]
[]
[]
[]
[]
[]
[]
[]
[]
[]
[]
[]
[]
[]
[]
[]
[]
[]
[]
[]
[]
[]
[]
[]
[]
[]
[]
[]
[]
[]
[]
[]
[]
[]
[]
[]
[]
[]
[]
[]
[]
[]
[]
[]
[]
[]
[]
[]
[]
[]
[]
[]
[]
[]
[]
[]
[]
[]
[]
[]
[]
[]
[]
[]
[]
[]
[]
[]
[]
[]
[]
[]
[]
[]
[]
[]
[]
[]
[]
[]
[]
[]
[]
[]
[]
[]
[]
[]
[]
[]
[]
[]
[]
[]
[]
[]
[]
[]
[]
[]
[]
[]
[]
[]
[]
[]
[]
[]
[]
[]
[]
[]
[]
[]
[]
[]
[]
[]
[]
[]
[]
[]
[]
[]
[]
[]
[]
[]
[]
[]
[]
[]
[]
[]
[]
[]
[]
[]
[]
[]
[]
[]
[]
[]
[]
[]
[]
[]
[]
[]
[]
[]
[]
[]
[]
[]
[]
[]
[]
[]
[]
[]
[]
[]
[]
[]
[]
[]
[]
[]
[]
[]
[]
[]
[]
[]
[]
[]
[]
[]
[]
[]
[]
[]
[]
[]
[]
[]
[]
[]
[]
[]
[]
[]
[]
[]
[]
[]
[]
[]
[]
[]
[]
[]
[]
[]
[]
[]
[]
[]
[]
[]
[]
[]
[]
[]
[]
[]
[]
[]
[]
[]
[]
[]
[]
[]
[]
[]
[]
[]
[]
[]
[]
[]
[]
[]
[]
[]
[]
[]
[]
[]
[]
[]
[]
[]
[]
[]
[]
[]
[]
[]
[]
[]
[]
[]
[]
[]
[]
[]
[]
[]
[]
[]
[]
[]
[]
[]
[]
[]
[]
[]
[]
[]
[]
[]
[]
[]
[]
[]
[]
[]
[]
[]
[]
[]
[]
[]
[]
[]
[]
[]
[]
[]
[]
[]
[]
[]
[]
[]
[]
[]
[]
[]
[]
[]
[]
[]
[]
[]
[]
[]
[]
[]
[]
[]
[]
[]
[]
[]
[]
[]
[]
[]
[]
[]
[]
[]
[]
[]
[]
[]
[]
[]
[]
[]
[]
[]
[]
[]
[]
[]
[]
[]
[]
[]
[]
[]
[]
[]
[]
[]
[]
[]
[]
[]
[]
[]
[]
[]
[]
[]
[]
[]
[]
[]
[]
[]
[]
[]
[]
[]
[]
[]
[]
[]
[]
[]
[]
[]
[]
[]
[]
[]
[]
[]
[]
[]
[]
[]
[]
[]
[]
[]
[]
[]
[]
[]
[]
[]
[]
[]
[]
[]
[]
[]
[]
[]
[]
[]
[]
[]
[]
[]
[]
[]
[]
[]
[]
[]
[]
[]
[]
[]
[]
[]
[]
[]
[]
[]
[]
[]
[]
[]
[]
[]
[]
[]
[]
[]
[]
[]
[]
[]
[]
[]
[]
[]
[]
[]
[]
[]
[]
[]
[]
[]
[]
[]
[]
[]
[]
[]
[]
[]
[]
[]
[]
[]
[]
[]
[]
[]
[]
[]
[]
[]
[]
[]
[]
[]
[]
[]
[]
[]
[]
[]
[]
[]
[]
[]
[]
[]
[]
[]
[]
[]
[]
[]
[]
[]
[]
[]
[]
[]
[]
[]
[]
[]
[]
[]
[]
[]
[]
[]
[]
[]
[]
[]
[]
[]
[]
[]
[]
[]
[]
[]
[]
[]
[]
[]
[]
[]
[]
[]
[]
[]
[]
[]
[]
[]
[]
[]
[]
[]
[]
[]
[]
[]
[]
[]
[]
[]
[]
[]
[]
[]
[]
[]
[]
[]
[]
[]
[]
[]
[]
[]
[]
[]
[]
[]
[]
[]
[]
[]
[]
[]
[]
[]
[]
[]
[]
[]
[]
[]
[]
[]
[]
[]
[]
[]
[]
[]
[]
[]
[]
[]
[]
[]
[]
[]
[]
[]
[]
[]
[]
[]
[]
[]
[]
[]
[]
[]
[]
[]
[]
[]
[]
[]
[]
[]
[]
[]
[]
[]
[]
[]
[]
[]
[]
[]
[]
[]
[]
[]
[]
[]
[]
[]
[]
[]
[]
[]
[]
[]
[]
[]
[]
[]
[]
[]
[]
[]
[]
[]
[]
[]
[]
[]
[]
[]
[]
[]
[]
[]
[]
[]
[]
[]
[]
[]
[]
[]
[]
[]
[]
[]
[]
[]
[]
[]
[]
[]
[]
[]
[{"$f":"1+1","v":2}]